Workbook
Name ER_Plan_Offerings: RateMatrix!$E$2
Name ER_Quaterly_Rates: [1]RateMatrix_V2!#REF!
Name ER_Quaterly_Rates: RateMatrix!#REF!
Name ER_Ref_Plan_HIOSID: RateMatrix!$F$8
Name Filter_By_ER_Plan_Offerings: RateMatrix!$E$13

Sheet Instructions
A2: Version 1: 2026-10-21
A4: Disclaimers
A5: 1. This is a standalone tool intended to be used in conjunction with the Broker Quoting Tool available through your DC Health Link portal.
A6: 2. This tool is subject to change based on updated plan and premium information provided by the carriers. Please remember to always download the latest version from DC Health Link to ensure you are accessing up to date information.
A7: 3. This tool is configured with plan and premium information for SHOP groups for the 2027 benefit year ONLY. It should not be used to calculate premium rates for any other benefit year.
A8: 4. If any user of this tool adds any personally identifiable information (PII) into the tool, then they must protect that PII and must not use or disclose that PII other than as permitted by the Broker Attestations that govern Producer conduct with respect to DC Health Link.
A9: 5. Please email dchl.producer@dc.gov with any questions or to report any issues related to this tool.
A12: Table of Contents
A13: Rate Generator: Generate total premiums, employer contributions, employee contributions, and HC4CC discount (for HC4CC groups ONLY) for SHOP group employees for their 2027 plan year.
A14: Age Calculator: Enter dates of birth for any household member to calculate their age at the time the coverage is set to begin
A15: Rate Matrix: Complete break out of premium rates for all age groups
A16: UHC Plan Codes: Reference table for cross-walking UHC plan marketing names with their corresponding plan code.

Sheet Rate Generator
B1: DC HEALTH BENEFIT EXCHANGE AUTHORITY
B2: SHOP Premium Calculator
B5: Fill out the below table based on the group's current plan year benefit pacakge | E5: Group Summary Details
E6: Total Household Premiums (Employee Plan Selections) | G6: =L26 -> 0
B7: Groupl Benefit Package Details | C7: Selection | E7: Total Employer Contribution (Employee Plan Selections) | G7: =M26 -> 0
B8: What quarter does the group's plan year start? (Select 1 ,2 3, or 4) | E8: Total Employee Contribution (Employee Plan Selections) | G8: =N26 -> 0
B9: What is the group's reference plan? | E9: Total Employer Contribution to Employees (Employee Plan Selections) | G9: =X26 -> 0
B10: What is the group's employer contribution percentage for Employees? | E10: Total Employer Contribution to Dependents (Employee Plan Selections) | G10: =SUM(Y26:AE26) -> 0
B11: What is the group's employer contribution percentage for Spouses? | E11: Total Household Premiums (Reference Plan) | G11: =AN26 -> 0
B12: What is the group's employer contribution percentage for children? | E12: Total Employer Contribution (Reference Plan) | G12: =AO26 -> 0
B13: Is the group participating in HealthCare4ChildCare? | E13: Total Employee Contribution (Reference Plan) | G13: =(AP26)-BQ26 -> 0
E14: Total Employer Contribution to Employees (Reference Plan) | G14: =AY26 -> 0
E15: Total Employer Contribution to Dependents (Reference Plan) | G15: =SUM(AZ26:BF26) -> 0
C16: =C8&"-"&VLOOKUP(C9,RateMatrix!D:E,2,FALSE) -> #N/A | E16: Total HealthCare4ChildCare Discount | G16: =O26 -> 0
B26: ="< - - - - - - - - - - - - - - - - - - - - - Enter Employee Plan Selections and Ages of Employee and any covered dependents at the time of enrollment - - - - - - - - - - - - - - - - - - - - - - - - >" -> < - - - - - - - - - - - - - - - - - - - - - Enter Employee Plan Selections and Ages of Employee and any covered dependents at the time of enrollment - - - - - - - - - - - - - - - - - - - - - - - - > | L26: =SUM(L28:L127) -> 0 | M26: =SUM(M28:M127) -> 0 | N26: =SUM(N28:N127) -> 0 | O26: =SUM(O28:O127) -> 0 | P26: =SUM(P28:P127) -> 0 | Q26: =SUM(Q28:Q127) -> 0 | R26: =SUM(R28:R127) -> 0 | S26: =SUM(S28:S127) -> 0 | ... BK26: =SUM(BK28:BK127) -> 0 | BO26: =SUM(BO28:BO127) -> 0 | BP26: =SUM(BP28:BP127) -> 0 | BQ26: =SUM(BQ28:BQ127) -> 0 | BR26: =SUM(BR28:BR127) -> 0 | BS26: X | BT26: X | BU26: X
B27: Plan Selection | C27: Employee Name (optional) | D27: Employee Age | E27: Spouse | F27: Child 1 | G27: Child 2 | H27: Child 3 | I27: Child 4 | J27: Child 5 | K27: Child 6 | L27: Total Household Premium – Plan Selection | M27: Total Employer Cost – Plan Selection | N27: Total Employee Cost – Plan Selection | O27: Total HealthCare4ChildCare Discount | P27: Employee Premium – Plan Selection | Q27: Spouse Premium – Plan Selection | R27: Child 1 Premium – Plan Selection | S27: Child 2 Premium – Plan Selection | T27: Child 3 Premium – Plan Selection | U27: Child 4 Premium – Plan Selection | V27: Child 5 Premium – Plan Selection | W27: Child 6 Premium – Plan Selection | X27: ER Contribution to Employee – Plan Selection | Y27: ER Contribution to Spouse – Plan Selection | Z27: ER Contribution to Child 1 – Plan Selection | AA27: ER Contribution to Child 2 – Plan Selection | AB27: ER Contribution to Child 3 – Plan Selection | AC27: ER Contribution to Child 4 – Plan Selection | AD27: ER Contribution to Child 5 – Plan Selection | AE27: ER Contribution to Child 6 – Plan Selection | AF27: EE Contribution to Self – Plan Selection | AG27: EE Contribution to Spouse – Plan Selection | AH27: EE Contribution to Child 1 – Plan Selection | AI27: EE Contribution to Child 2 – Plan Selection | AJ27: EE Contribution to Child 3 – Plan Selection | AK27: EE Contribution to Child 4 – Plan Selection | AL27: EE Contribution to Child 5 – Plan Selection | AM27: EE Contribution to Child 6 – Plan Selection | AN27: Total Household Premium – Reference Plan | AO27: Total Employer Cost – Reference Plan | AP27: Total Employee Cost – Reference Plan | AQ27: Employee Premium – Reference Plan | AR27: Spouse Premium – Reference Plan | AS27: Child 1 Premium – Reference Plan | AT27: Child 2 Premium – Reference Plan | AU27: Child 3 Premium – Reference Plan | AV27: Child 4 Premium – Reference Plan | AW27: Child 5 Premium – Reference Plan | AX27: Child 6 Premium – Reference Plan | AY27: ER Contribution to Employee – Reference Plan | AZ27: ER Contribution to Spouse – Reference Plan | BA27: ER Contribution to Child 1 – Reference Plan | BB27: ER Contribution to Child 2 – Reference Plan | BC27: ER Contribution to Child 3 – Reference Plan | BD27: ER Contribution to Child 4 – Reference Plan | BE27: ER Contribution to Child 5 – Reference Plan | BF27: ER Contribution to Child 6 – Reference Plan | BG27: EE Contribution to Self – Reference Plan | BH27: EE Contribution to Spouse – Reference Plan | BI27: EE Contribution to Child 1 – Reference Plan | BJ27: EE Contribution to Child 2 – Reference Plan | BK27: EE Contribution to Child 3 – Reference Plan | BL27: EE Contribution to Child 4– Reference Plan | BM27: EE Contribution to Child 5 – Reference Plan | BN27: EE Contribution to Child 6 – Reference Plan | BO27: Maximum Contribution to Employee | BP27: HC4CC Benchmark Plan Premium | BQ27: Subsidy | BR27: Remaining After Subsidy | BS27: ER Contribution to EE | BT27: ER Contribution to Spouse | BU27: ER Contribution to Children | BV27: HIOS ID
L28: =SUM(P28:W28) -> 0 | M28: =SUM(X28:AE28) -> 0 | N28: =SUM(AF28:AM28) -> 0 | O28: =BQ28 -> 0 | P28: =IFERROR(VLOOKUP($C$8&"-"&BV28,RateMatrix!A:DF,D28+10,FALSE),0) -> 0 | Q28: =IF(ISBLANK(E28)=FALSE, VLOOKUP($C$8&"-"&BV28,RateMatrix!A:DF,E28+10,FALSE),0) -> 0 | R28: =IF(ISBLANK(F28)=FALSE,VLOOKUP($C$8&"-"&BV28,RateMatrix!A:DF,F28+10,FALSE),0) -> 0 | S28: =IF(ISBLANK(G28)=FALSE,VLOOKUP($C$8&"-"&BV28,RateMatrix!A:DF,G28+10,FALSE),0) -> 0 | T28: =IF(ISBLANK(H28)=FALSE,VLOOKUP($C$8&"-"&$BV28,RateMatrix!$A:$DF,H28+10,FALSE),0) -> 0 | U28: =IF(ISBLANK(I28)=FALSE,VLOOKUP($C$8&"-"&$BV28,RateMatrix!$A:$DF,I28+10,FALSE),0) -> 0 | V28: =IF(ISBLANK(J28)=FALSE,VLOOKUP($C$8&"-"&$BV28,RateMatrix!$A:$DF,J28+10,FALSE),0) -> 0 | W28: =IF(ISBLANK(K28)=FALSE,VLOOKUP($C$8&"-"&$BV28,RateMatrix!$A:$DF,K28+10,FALSE),0) -> 0 | X28: =IF(BO28>=BR28,BR28,BO28) -> 0 | Y28: =IF(AR28*(C$11/100)>=Q28,Q28, AR28*(C$11/100)) -> 0 | Z28: =IF(AS28*($C$12/100)>=R28,R28,AS28*($C$12/100)) -> 0 | AA28: =IF(AT28*($C$12/100)>=S28,S28,AT28*($C$12/100)) -> 0 | AB28: =IF(AU28*($C$12/100)>=T28,T28,AU28*($C$12/100)) -> 0 | AC28: =IF(AV28*($C$12/100)>=U28,U28,AV28*($C$12/100)) -> 0 | AD28: =IF(AW28*($C$12/100)>=V28,V28,AW28*($C$12/100)) -> 0 | AE28: =IF(AX28*($C$12/100)>=W28,W28,AX28*($C$12/100)) -> 0 | AF28: =IF((P28-X28)<0,0,P28-BQ28-X28) -> 0 | AG28: =IF((Q28-Y28)<0,0,Q28-Y28) -> 0 | AH28: =IF((R28-Z28)<0,0,R28-Z28) -> 0 | AI28: =IF((S28-AA28)<0,0,S28-AA28) -> 0 | AJ28: =IF((T28-AB28)<0,0,T28-AB28) -> 0 | AK28: =IF((U28-AC28)<0,0,U28-AC28) -> 0 | AL28: =IF((V28-AD28)<0,0,V28-AD28) -> 0 | AM28: =IF((W28-AE28)<0,0,W28-AE28) -> 0 | AN28: =SUM(AQ28:AX28) -> 0 | AO28: =SUM(AY28:BF28) -> 0 | AP28: =SUM(BG28:BN28) -> 0 | AQ28: =IF(ISBLANK(D28)=FALSE,VLOOKUP($C$16,RateMatrix!A:DF,D28+10,FALSE),0) -> 0 | AR28: =IFERROR(IF(ISBLANK(E28)=FALSE, VLOOKUP($C$16,RateMatrix!A:DF,E28+10,FALSE),0),0) -> 0 | AS28: =IFERROR(IF(ISBLANK(F28)=FALSE, VLOOKUP($C$16,RateMatrix!A:DF,F28+10,FALSE),0),0) -> 0 | AT28: =IF(ISBLANK(G28)=FALSE, VLOOKUP($C$16,RateMatrix!A:DF,G28+10,FALSE),0) -> 0 | AU28: =IF(ISBLANK(H28)=FALSE, VLOOKUP($C$16,RateMatrix!$A:$DF,H28+10,FALSE),0) -> 0 | AV28: =IF(ISBLANK(I28)=FALSE, VLOOKUP($C$16,RateMatrix!$A:$DF,I28+10,FALSE),0) -> 0 | AW28: =IF(ISBLANK(J28)=FALSE, VLOOKUP($C$16,RateMatrix!$A:$DF,J28+10,FALSE),0) -> 0 | AX28: =IF(ISBLANK(K28)=FALSE, VLOOKUP($C$16,RateMatrix!$A:$DF,K28+10,FALSE),0) -> 0 | AY28: =AQ28*(BS28/100) -> 0 | AZ28: =AR28*(BT28/100) -> 0 | BA28: =AS28*(BU28/100) -> 0 | BB28: =AT28*(BU28/100) -> 0 | BC28: =AU28*($BU28/100) -> 0 | BD28: =AV28*($BU28/100) -> 0 | BE28: =AW28*($BU28/100) -> 0 | BF28: =AX28*($BU28/100) -> 0 | BG28: =AQ28-AY28 -> 0 | BH28: =AR28-AZ28 -> 0 | BI28: =AS28-BA28 -> 0 | BJ28: =AT28-BB28 -> 0 | BK28: =AU28-BC28 -> 0 | BL28: =AV28-BD28 -> 0 | BM28: =AW28-BE28 -> 0 | BN28: =AX28-BF28 -> 0 | BO28: =AQ28*(BS28/100) -> 0 | BP28: =IF($C$13="Yes",IF(D28>0,IFERROR(VLOOKUP(D28,HC4CC!$C:$G,$C$8+1,FALSE),0),0),0) -> 0 | BQ28: =IF(P28>=BP28,BP28,P28) -> 0 | BR28: =P28-BQ28 -> 0 | BS28: =$C$10 -> 0 | BT28: =$C$11 -> 0 | BU28: =$C$12 -> 0 | BV28: =IFERROR(VLOOKUP(B28,RateMatrix!D:E,2,FALSE),"")
L29: =SUM(P29:W29) -> 0 | M29: =SUM(X29:AE29) -> 0 | N29: =SUM(AF29:AM29) -> 0 | O29: =BQ29 -> 0 | P29: =IFERROR(VLOOKUP($C$8&"-"&BV29,RateMatrix!A:DF,D29+10,FALSE),0) -> 0 | Q29: =IF(ISBLANK(E29)=FALSE, VLOOKUP($C$8&"-"&BV29,RateMatrix!A:DF,E29+10,FALSE),0) -> 0 | R29: =IF(ISBLANK(F29)=FALSE,VLOOKUP($C$8&"-"&BV29,RateMatrix!A:DF,F29+10,FALSE),0) -> 0 | S29: =IF(ISBLANK(G29)=FALSE,VLOOKUP($C$8&"-"&BV29,RateMatrix!A:DF,G29+10,FALSE),0) -> 0 | T29: =IF(ISBLANK(H29)=FALSE,VLOOKUP($C$8&"-"&$BV29,RateMatrix!$A:$DF,H29+10,FALSE),0) -> 0 | U29: =IF(ISBLANK(I29)=FALSE,VLOOKUP($C$8&"-"&$BV29,RateMatrix!$A:$DF,I29+10,FALSE),0) -> 0 | V29: =IF(ISBLANK(J29)=FALSE,VLOOKUP($C$8&"-"&$BV29,RateMatrix!$A:$DF,J29+10,FALSE),0) -> 0 | W29: =IF(ISBLANK(K29)=FALSE,VLOOKUP($C$8&"-"&$BV29,RateMatrix!$A:$DF,K29+10,FALSE),0) -> 0 | X29: =IF(BO29>=BR29,BR29,BO29) -> 0 | Y29: =AR29*(C$11/100) -> 0 | Z29: =AS29*($C$12/100) -> 0 | AA29: =AT29*($C$12/100) -> 0 | AB29: =AU29*($C$12/100) -> 0 | AC29: =AV29*($C$12/100) -> 0 | AD29: =AW29*($C$12/100) -> 0 | AE29: =AX29*($C$12/100) -> 0 | AF29: =IF((P29-X29)<0,0,P29-BQ29-X29) -> 0 | AG29: =IF((Q29-Y29)<0,0,Q29-Y29) -> 0 | AH29: =IF((R29-Z29)<0,0,R29-Z29) -> 0 | AI29: =IF((S29-AA29)<0,0,S29-AA29) -> 0 | AJ29: =IF((T29-AB29)<0,0,T29-AB29) -> 0 | AK29: =IF((U29-AC29)<0,0,U29-AC29) -> 0 | AL29: =IF((V29-AD29)<0,0,V29-AD29) -> 0 | AM29: =IF((W29-AE29)<0,0,W29-AE29) -> 0 | AN29: =SUM(AQ29:AX29) -> 0 | AO29: =SUM(AY29:BF29) -> 0 | AP29: =SUM(BG29:BN29) -> 0 | AQ29: =IF(ISBLANK(D29)=FALSE,VLOOKUP($C$16,RateMatrix!A:DF,D29+10,FALSE),0) -> 0 | AR29: =IFERROR(IF(ISBLANK(E29)=FALSE, VLOOKUP($C$16,RateMatrix!A:DF,E29+10,FALSE),0),0) -> 0 | AS29: =IFERROR(IF(ISBLANK(F29)=FALSE, VLOOKUP($C$16,RateMatrix!A:DF,F29+10,FALSE),0),0) -> 0 | AT29: =IF(ISBLANK(G29)=FALSE, VLOOKUP($C$16,RateMatrix!A:DF,G29+10,FALSE),0) -> 0 | AU29: =IF(ISBLANK(H29)=FALSE, VLOOKUP($C$16,RateMatrix!$A:$DF,H29+10,FALSE),0) -> 0 | AV29: =IF(ISBLANK(I29)=FALSE, VLOOKUP($C$16,RateMatrix!$A:$DF,I29+10,FALSE),0) -> 0 | AW29: =IF(ISBLANK(J29)=FALSE, VLOOKUP($C$16,RateMatrix!$A:$DF,J29+10,FALSE),0) -> 0 | AX29: =IF(ISBLANK(K29)=FALSE, VLOOKUP($C$16,RateMatrix!$A:$DF,K29+10,FALSE),0) -> 0 | AY29: =AQ29*(BS29/100) -> 0 | AZ29: =AR29*(BT29/100) -> 0 | BA29: =AS29*(BU29/100) -> 0 | BB29: =AT29*(BU29/100) -> 0 | BC29: =AU29*($BU29/100) -> 0 | BD29: =AV29*($BU29/100) -> 0 | BE29: =AW29*($BU29/100) -> 0 | BF29: =AX29*($BU29/100) -> 0 | BG29: =AQ29-AY29 -> 0 | BH29: =AR29-AZ29 -> 0 | BI29: =AS29-BA29 -> 0 | BJ29: =AT29-BB29 -> 0 | BK29: =AU29-BC29 -> 0 | BL29: =AV29-BD29 -> 0 | BM29: =AW29-BE29 -> 0 | BN29: =AX29-BF29 -> 0 | BO29: =AQ29*(BS29/100) -> 0 | BP29: =IF($C$13="Yes",IF(D29>0,IFERROR(VLOOKUP(D29,HC4CC!$C:$G,$C$8+1,FALSE),0),0),0) -> 0 | BQ29: =IF(P29>=BP29,BP29,P29) -> 0 | BR29: =P29-BQ29 -> 0 | BS29: =$C$10 -> 0 | BT29: =$C$11 -> 0 | BU29: =$C$12 -> 0 | BV29: =IFERROR(VLOOKUP(B29,RateMatrix!D:E,2,FALSE),"")
L30: =SUM(P30:W30) -> 0 | M30: =SUM(X30:AE30) -> 0 | N30: =SUM(AF30:AM30) -> 0 | O30: =BQ30 -> 0 | P30: =IFERROR(VLOOKUP($C$8&"-"&BV30,RateMatrix!A:DF,D30+10,FALSE),0) -> 0 | Q30: =IF(ISBLANK(E30)=FALSE, VLOOKUP($C$8&"-"&BV30,RateMatrix!A:DF,E30+10,FALSE),0) -> 0 | R30: =IF(ISBLANK(F30)=FALSE,VLOOKUP($C$8&"-"&BV30,RateMatrix!A:DF,F30+10,FALSE),0) -> 0 | S30: =IF(ISBLANK(G30)=FALSE,VLOOKUP($C$8&"-"&BV30,RateMatrix!A:DF,G30+10,FALSE),0) -> 0 | T30: =IF(ISBLANK(H30)=FALSE,VLOOKUP($C$8&"-"&$BV30,RateMatrix!$A:$DF,H30+10,FALSE),0) -> 0 | U30: =IF(ISBLANK(I30)=FALSE,VLOOKUP($C$8&"-"&$BV30,RateMatrix!$A:$DF,I30+10,FALSE),0) -> 0 | V30: =IF(ISBLANK(J30)=FALSE,VLOOKUP($C$8&"-"&$BV30,RateMatrix!$A:$DF,J30+10,FALSE),0) -> 0 | W30: =IF(ISBLANK(K30)=FALSE,VLOOKUP($C$8&"-"&$BV30,RateMatrix!$A:$DF,K30+10,FALSE),0) -> 0 | X30: =IF(BO30>=BR30,BR30,BO30) -> 0 | Y30: =AR30*(C$11/100) -> 0 | Z30: =AS30*($C$12/100) -> 0 | AA30: =AT30*($C$12/100) -> 0 | AB30: =AU30*($C$12/100) -> 0 | AC30: =AV30*($C$12/100) -> 0 | AD30: =AW30*($C$12/100) -> 0 | AE30: =AX30*($C$12/100) -> 0 | AF30: =IF((P30-X30)<0,0,P30-BQ30-X30) -> 0 | AG30: =IF((Q30-Y30)<0,0,Q30-Y30) -> 0 | AH30: =IF((R30-Z30)<0,0,R30-Z30) -> 0 | AI30: =IF((S30-AA30)<0,0,S30-AA30) -> 0 | AJ30: =IF((T30-AB30)<0,0,T30-AB30) -> 0 | AK30: =IF((U30-AC30)<0,0,U30-AC30) -> 0 | AL30: =IF((V30-AD30)<0,0,V30-AD30) -> 0 | AM30: =IF((W30-AE30)<0,0,W30-AE30) -> 0 | AN30: =SUM(AQ30:AX30) -> 0 | AO30: =SUM(AY30:BF30) -> 0 | AP30: =SUM(BG30:BN30) -> 0 | AQ30: =IF(ISBLANK(D30)=FALSE,VLOOKUP($C$16,RateMatrix!A:DF,D30+10,FALSE),0) -> 0 | AR30: =IFERROR(IF(ISBLANK(E30)=FALSE, VLOOKUP($C$16,RateMatrix!A:DF,E30+10,FALSE),0),0) -> 0 | AS30: =IFERROR(IF(ISBLANK(F30)=FALSE, VLOOKUP($C$16,RateMatrix!A:DF,F30+10,FALSE),0),0) -> 0 | AT30: =IF(ISBLANK(G30)=FALSE, VLOOKUP($C$16,RateMatrix!A:DF,G30+10,FALSE),0) -> 0 | AU30: =IF(ISBLANK(H30)=FALSE, VLOOKUP($C$16,RateMatrix!$A:$DF,H30+10,FALSE),0) -> 0 | AV30: =IF(ISBLANK(I30)=FALSE, VLOOKUP($C$16,RateMatrix!$A:$DF,I30+10,FALSE),0) -> 0 | AW30: =IF(ISBLANK(J30)=FALSE, VLOOKUP($C$16,RateMatrix!$A:$DF,J30+10,FALSE),0) -> 0 | AX30: =IF(ISBLANK(K30)=FALSE, VLOOKUP($C$16,RateMatrix!$A:$DF,K30+10,FALSE),0) -> 0 | AY30: =AQ30*(BS30/100) -> 0 | AZ30: =AR30*(BT30/100) -> 0 | BA30: =AS30*(BU30/100) -> 0 | BB30: =AT30*(BU30/100) -> 0 | BC30: =AU30*($BU30/100) -> 0 | BD30: =AV30*($BU30/100) -> 0 | BE30: =AW30*($BU30/100) -> 0 | BF30: =AX30*($BU30/100) -> 0 | BG30: =AQ30-AY30 -> 0 | BH30: =AR30-AZ30 -> 0 | BI30: =AS30-BA30 -> 0 | BJ30: =AT30-BB30 -> 0 | BK30: =AU30-BC30 -> 0 | BL30: =AV30-BD30 -> 0 | BM30: =AW30-BE30 -> 0 | BN30: =AX30-BF30 -> 0 | BO30: =AQ30*(BS30/100) -> 0 | BP30: =IF($C$13="Yes",IF(D30>0,IFERROR(VLOOKUP(D30,HC4CC!$C:$G,$C$8+1,FALSE),0),0),0) -> 0 | BQ30: =IF(P30>=BP30,BP30,P30) -> 0 | BR30: =P30-BQ30 -> 0 | BS30: =$C$10 -> 0 | BT30: =$C$11 -> 0 | BU30: =$C$12 -> 0 | BV30: =IFERROR(VLOOKUP(B30,RateMatrix!D:E,2,FALSE),"")
L31: =SUM(P31:W31) -> 0 | M31: =SUM(X31:AE31) -> 0 | N31: =SUM(AF31:AM31) -> 0 | O31: =BQ31 -> 0 | P31: =IFERROR(VLOOKUP($C$8&"-"&BV31,RateMatrix!A:DF,D31+10,FALSE),0) -> 0 | Q31: =IF(ISBLANK(E31)=FALSE, VLOOKUP($C$8&"-"&BV31,RateMatrix!A:DF,E31+10,FALSE),0) -> 0 | R31: =IF(ISBLANK(F31)=FALSE,VLOOKUP($C$8&"-"&BV31,RateMatrix!A:DF,F31+10,FALSE),0) -> 0 | S31: =IF(ISBLANK(G31)=FALSE,VLOOKUP($C$8&"-"&BV31,RateMatrix!A:DF,G31+10,FALSE),0) -> 0 | T31: =IF(ISBLANK(H31)=FALSE,VLOOKUP($C$8&"-"&$BV31,RateMatrix!$A:$DF,H31+10,FALSE),0) -> 0 | U31: =IF(ISBLANK(I31)=FALSE,VLOOKUP($C$8&"-"&$BV31,RateMatrix!$A:$DF,I31+10,FALSE),0) -> 0 | V31: =IF(ISBLANK(J31)=FALSE,VLOOKUP($C$8&"-"&$BV31,RateMatrix!$A:$DF,J31+10,FALSE),0) -> 0 | W31: =IF(ISBLANK(K31)=FALSE,VLOOKUP($C$8&"-"&$BV31,RateMatrix!$A:$DF,K31+10,FALSE),0) -> 0 | X31: =IF(BO31>=BR31,BR31,BO31) -> 0 | Y31: =AR31*(C$11/100) -> 0 | Z31: =AS31*($C$12/100) -> 0 | AA31: =AT31*($C$12/100) -> 0 | AB31: =AU31*($C$12/100) -> 0 | AC31: =AV31*($C$12/100) -> 0 | AD31: =AW31*($C$12/100) -> 0 | AE31: =AX31*($C$12/100) -> 0 | AF31: =IF((P31-X31)<0,0,P31-BQ31-X31) -> 0 | AG31: =IF((Q31-Y31)<0,0,Q31-Y31) -> 0 | AH31: =IF((R31-Z31)<0,0,R31-Z31) -> 0 | AI31: =IF((S31-AA31)<0,0,S31-AA31) -> 0 | AJ31: =IF((T31-AB31)<0,0,T31-AB31) -> 0 | AK31: =IF((U31-AC31)<0,0,U31-AC31) -> 0 | AL31: =IF((V31-AD31)<0,0,V31-AD31) -> 0 | AM31: =IF((W31-AE31)<0,0,W31-AE31) -> 0 | AN31: =SUM(AQ31:AX31) -> 0 | AO31: =SUM(AY31:BF31) -> 0 | AP31: =SUM(BG31:BN31) -> 0 | AQ31: =IF(ISBLANK(D31)=FALSE,VLOOKUP($C$16,RateMatrix!A:DF,D31+10,FALSE),0) -> 0 | AR31: =IFERROR(IF(ISBLANK(E31)=FALSE, VLOOKUP($C$16,RateMatrix!A:DF,E31+10,FALSE),0),0) -> 0 | AS31: =IFERROR(IF(ISBLANK(F31)=FALSE, VLOOKUP($C$16,RateMatrix!A:DF,F31+10,FALSE),0),0) -> 0 | AT31: =IF(ISBLANK(G31)=FALSE, VLOOKUP($C$16,RateMatrix!A:DF,G31+10,FALSE),0) -> 0 | AU31: =IF(ISBLANK(H31)=FALSE, VLOOKUP($C$16,RateMatrix!$A:$DF,H31+10,FALSE),0) -> 0 | AV31: =IF(ISBLANK(I31)=FALSE, VLOOKUP($C$16,RateMatrix!$A:$DF,I31+10,FALSE),0) -> 0 | AW31: =IF(ISBLANK(J31)=FALSE, VLOOKUP($C$16,RateMatrix!$A:$DF,J31+10,FALSE),0) -> 0 | AX31: =IF(ISBLANK(K31)=FALSE, VLOOKUP($C$16,RateMatrix!$A:$DF,K31+10,FALSE),0) -> 0 | AY31: =AQ31*(BS31/100) -> 0 | AZ31: =AR31*(BT31/100) -> 0 | BA31: =AS31*(BU31/100) -> 0 | BB31: =AT31*(BU31/100) -> 0 | BC31: =AU31*($BU31/100) -> 0 | BD31: =AV31*($BU31/100) -> 0 | BE31: =AW31*($BU31/100) -> 0 | BF31: =AX31*($BU31/100) -> 0 | BG31: =AQ31-AY31 -> 0 | BH31: =AR31-AZ31 -> 0 | BI31: =AS31-BA31 -> 0 | BJ31: =AT31-BB31 -> 0 | BK31: =AU31-BC31 -> 0 | BL31: =AV31-BD31 -> 0 | BM31: =AW31-BE31 -> 0 | BN31: =AX31-BF31 -> 0 | BO31: =AQ31*(BS31/100) -> 0 | BP31: =IF($C$13="Yes",IF(D31>0,IFERROR(VLOOKUP(D31,HC4CC!$C:$G,$C$8+1,FALSE),0),0),0) -> 0 | BQ31: =IF(P31>=BP31,BP31,P31) -> 0 | BR31: =P31-BQ31 -> 0 | BS31: =$C$10 -> 0 | BT31: =$C$11 -> 0 | BU31: =$C$12 -> 0 | BV31: =IFERROR(VLOOKUP(B31,RateMatrix!D:E,2,FALSE),"")
L32: =SUM(P32:W32) -> 0 | M32: =SUM(X32:AE32) -> 0 | N32: =SUM(AF32:AM32) -> 0 | O32: =BQ32 -> 0 | P32: =IFERROR(VLOOKUP($C$8&"-"&BV32,RateMatrix!A:DF,D32+10,FALSE),0) -> 0 | Q32: =IF(ISBLANK(E32)=FALSE, VLOOKUP($C$8&"-"&BV32,RateMatrix!A:DF,E32+10,FALSE),0) -> 0 | R32: =IF(ISBLANK(F32)=FALSE,VLOOKUP($C$8&"-"&BV32,RateMatrix!A:DF,F32+10,FALSE),0) -> 0 | S32: =IF(ISBLANK(G32)=FALSE,VLOOKUP($C$8&"-"&BV32,RateMatrix!A:DF,G32+10,FALSE),0) -> 0 | T32: =IF(ISBLANK(H32)=FALSE,VLOOKUP($C$8&"-"&$BV32,RateMatrix!$A:$DF,H32+10,FALSE),0) -> 0 | U32: =IF(ISBLANK(I32)=FALSE,VLOOKUP($C$8&"-"&$BV32,RateMatrix!$A:$DF,I32+10,FALSE),0) -> 0 | V32: =IF(ISBLANK(J32)=FALSE,VLOOKUP($C$8&"-"&$BV32,RateMatrix!$A:$DF,J32+10,FALSE),0) -> 0 | W32: =IF(ISBLANK(K32)=FALSE,VLOOKUP($C$8&"-"&$BV32,RateMatrix!$A:$DF,K32+10,FALSE),0) -> 0 | X32: =IF(BO32>=BR32,BR32,BO32) -> 0 | Y32: =AR32*(C$11/100) -> 0 | Z32: =AS32*($C$12/100) -> 0 | AA32: =AT32*($C$12/100) -> 0 | AB32: =AU32*($C$12/100) -> 0 | AC32: =AV32*($C$12/100) -> 0 | AD32: =AW32*($C$12/100) -> 0 | AE32: =AX32*($C$12/100) -> 0 | AF32: =IF((P32-X32)<0,0,P32-BQ32-X32) -> 0 | AG32: =IF((Q32-Y32)<0,0,Q32-Y32) -> 0 | AH32: =IF((R32-Z32)<0,0,R32-Z32) -> 0 | AI32: =IF((S32-AA32)<0,0,S32-AA32) -> 0 | AJ32: =IF((T32-AB32)<0,0,T32-AB32) -> 0 | AK32: =IF((U32-AC32)<0,0,U32-AC32) -> 0 | AL32: =IF((V32-AD32)<0,0,V32-AD32) -> 0 | AM32: =IF((W32-AE32)<0,0,W32-AE32) -> 0 | AN32: =SUM(AQ32:AX32) -> 0 | AO32: =SUM(AY32:BF32) -> 0 | AP32: =SUM(BG32:BN32) -> 0 | AQ32: =IF(ISBLANK(D32)=FALSE,VLOOKUP($C$16,RateMatrix!A:DF,D32+10,FALSE),0) -> 0 | AR32: =IFERROR(IF(ISBLANK(E32)=FALSE, VLOOKUP($C$16,RateMatrix!A:DF,E32+10,FALSE),0),0) -> 0 | AS32: =IFERROR(IF(ISBLANK(F32)=FALSE, VLOOKUP($C$16,RateMatrix!A:DF,F32+10,FALSE),0),0) -> 0 | AT32: =IF(ISBLANK(G32)=FALSE, VLOOKUP($C$16,RateMatrix!A:DF,G32+10,FALSE),0) -> 0 | AU32: =IF(ISBLANK(H32)=FALSE, VLOOKUP($C$16,RateMatrix!$A:$DF,H32+10,FALSE),0) -> 0 | AV32: =IF(ISBLANK(I32)=FALSE, VLOOKUP($C$16,RateMatrix!$A:$DF,I32+10,FALSE),0) -> 0 | AW32: =IF(ISBLANK(J32)=FALSE, VLOOKUP($C$16,RateMatrix!$A:$DF,J32+10,FALSE),0) -> 0 | AX32: =IF(ISBLANK(K32)=FALSE, VLOOKUP($C$16,RateMatrix!$A:$DF,K32+10,FALSE),0) -> 0 | AY32: =AQ32*(BS32/100) -> 0 | AZ32: =AR32*(BT32/100) -> 0 | BA32: =AS32*(BU32/100) -> 0 | BB32: =AT32*(BU32/100) -> 0 | BC32: =AU32*($BU32/100) -> 0 | BD32: =AV32*($BU32/100) -> 0 | BE32: =AW32*($BU32/100) -> 0 | BF32: =AX32*($BU32/100) -> 0 | BG32: =AQ32-AY32 -> 0 | BH32: =AR32-AZ32 -> 0 | BI32: =AS32-BA32 -> 0 | BJ32: =AT32-BB32 -> 0 | BK32: =AU32-BC32 -> 0 | BL32: =AV32-BD32 -> 0 | BM32: =AW32-BE32 -> 0 | BN32: =AX32-BF32 -> 0 | BO32: =AQ32*(BS32/100) -> 0 | BP32: =IF($C$13="Yes",IF(D32>0,IFERROR(VLOOKUP(D32,HC4CC!$C:$G,$C$8+1,FALSE),0),0),0) -> 0 | BQ32: =IF(P32>=BP32,BP32,P32) -> 0 | BR32: =P32-BQ32 -> 0 | BS32: =$C$10 -> 0 | BT32: =$C$11 -> 0 | BU32: =$C$12 -> 0 | BV32: =IFERROR(VLOOKUP(B32,RateMatrix!D:E,2,FALSE),"")
L33: =SUM(P33:W33) -> 0 | M33: =SUM(X33:AE33) -> 0 | N33: =SUM(AF33:AM33) -> 0 | O33: =BQ33 -> 0 | P33: =IFERROR(VLOOKUP($C$8&"-"&BV33,RateMatrix!A:DF,D33+10,FALSE),0) -> 0 | Q33: =IF(ISBLANK(E33)=FALSE, VLOOKUP($C$8&"-"&BV33,RateMatrix!A:DF,E33+10,FALSE),0) -> 0 | R33: =IF(ISBLANK(F33)=FALSE,VLOOKUP($C$8&"-"&BV33,RateMatrix!A:DF,F33+10,FALSE),0) -> 0 | S33: =IF(ISBLANK(G33)=FALSE,VLOOKUP($C$8&"-"&BV33,RateMatrix!A:DF,G33+10,FALSE),0) -> 0 | T33: =IF(ISBLANK(H33)=FALSE,VLOOKUP($C$8&"-"&$BV33,RateMatrix!$A:$DF,H33+10,FALSE),0) -> 0 | U33: =IF(ISBLANK(I33)=FALSE,VLOOKUP($C$8&"-"&$BV33,RateMatrix!$A:$DF,I33+10,FALSE),0) -> 0 | V33: =IF(ISBLANK(J33)=FALSE,VLOOKUP($C$8&"-"&$BV33,RateMatrix!$A:$DF,J33+10,FALSE),0) -> 0 | W33: =IF(ISBLANK(K33)=FALSE,VLOOKUP($C$8&"-"&$BV33,RateMatrix!$A:$DF,K33+10,FALSE),0) -> 0 | X33: =IF(BO33>=BR33,BR33,BO33) -> 0 | Y33: =AR33*(C$11/100) -> 0 | Z33: =AS33*($C$12/100) -> 0 | AA33: =AT33*($C$12/100) -> 0 | AB33: =AU33*($C$12/100) -> 0 | AC33: =AV33*($C$12/100) -> 0 | AD33: =AW33*($C$12/100) -> 0 | AE33: =AX33*($C$12/100) -> 0 | AF33: =IF((P33-X33)<0,0,P33-BQ33-X33) -> 0 | AG33: =IF((Q33-Y33)<0,0,Q33-Y33) -> 0 | AH33: =IF((R33-Z33)<0,0,R33-Z33) -> 0 | AI33: =IF((S33-AA33)<0,0,S33-AA33) -> 0 | AJ33: =IF((T33-AB33)<0,0,T33-AB33) -> 0 | AK33: =IF((U33-AC33)<0,0,U33-AC33) -> 0 | AL33: =IF((V33-AD33)<0,0,V33-AD33) -> 0 | AM33: =IF((W33-AE33)<0,0,W33-AE33) -> 0 | AN33: =SUM(AQ33:AX33) -> 0 | AO33: =SUM(AY33:BF33) -> 0 | AP33: =SUM(BG33:BN33) -> 0 | AQ33: =IF(ISBLANK(D33)=FALSE,VLOOKUP($C$16,RateMatrix!A:DF,D33+10,FALSE),0) -> 0 | AR33: =IFERROR(IF(ISBLANK(E33)=FALSE, VLOOKUP($C$16,RateMatrix!A:DF,E33+10,FALSE),0),0) -> 0 | AS33: =IFERROR(IF(ISBLANK(F33)=FALSE, VLOOKUP($C$16,RateMatrix!A:DF,F33+10,FALSE),0),0) -> 0 | AT33: =IF(ISBLANK(G33)=FALSE, VLOOKUP($C$16,RateMatrix!A:DF,G33+10,FALSE),0) -> 0 | AU33: =IF(ISBLANK(H33)=FALSE, VLOOKUP($C$16,RateMatrix!$A:$DF,H33+10,FALSE),0) -> 0 | AV33: =IF(ISBLANK(I33)=FALSE, VLOOKUP($C$16,RateMatrix!$A:$DF,I33+10,FALSE),0) -> 0 | AW33: =IF(ISBLANK(J33)=FALSE, VLOOKUP($C$16,RateMatrix!$A:$DF,J33+10,FALSE),0) -> 0 | AX33: =IF(ISBLANK(K33)=FALSE, VLOOKUP($C$16,RateMatrix!$A:$DF,K33+10,FALSE),0) -> 0 | AY33: =AQ33*(BS33/100) -> 0 | AZ33: =AR33*(BT33/100) -> 0 | BA33: =AS33*(BU33/100) -> 0 | BB33: =AT33*(BU33/100) -> 0 | BC33: =AU33*($BU33/100) -> 0 | BD33: =AV33*($BU33/100) -> 0 | BE33: =AW33*($BU33/100) -> 0 | BF33: =AX33*($BU33/100) -> 0 | BG33: =AQ33-AY33 -> 0 | BH33: =AR33-AZ33 -> 0 | BI33: =AS33-BA33 -> 0 | BJ33: =AT33-BB33 -> 0 | BK33: =AU33-BC33 -> 0 | BL33: =AV33-BD33 -> 0 | BM33: =AW33-BE33 -> 0 | BN33: =AX33-BF33 -> 0 | BO33: =AQ33*(BS33/100) -> 0 | BP33: =IF($C$13="Yes",IF(D33>0,IFERROR(VLOOKUP(D33,HC4CC!$C:$G,$C$8+1,FALSE),0),0),0) -> 0 | BQ33: =IF(P33>=BP33,BP33,P33) -> 0 | BR33: =P33-BQ33 -> 0 | BS33: =$C$10 -> 0 | BT33: =$C$11 -> 0 | BU33: =$C$12 -> 0 | BV33: =IFERROR(VLOOKUP(B33,RateMatrix!D:E,2,FALSE),"")
L34: =SUM(P34:W34) -> 0 | M34: =SUM(X34:AE34) -> 0 | N34: =SUM(AF34:AM34) -> 0 | O34: =BQ34 -> 0 | P34: =IFERROR(VLOOKUP($C$8&"-"&BV34,RateMatrix!A:DF,D34+10,FALSE),0) -> 0 | Q34: =IF(ISBLANK(E34)=FALSE, VLOOKUP($C$8&"-"&BV34,RateMatrix!A:DF,E34+10,FALSE),0) -> 0 | R34: =IF(ISBLANK(F34)=FALSE,VLOOKUP($C$8&"-"&BV34,RateMatrix!A:DF,F34+10,FALSE),0) -> 0 | S34: =IF(ISBLANK(G34)=FALSE,VLOOKUP($C$8&"-"&BV34,RateMatrix!A:DF,G34+10,FALSE),0) -> 0 | T34: =IF(ISBLANK(H34)=FALSE,VLOOKUP($C$8&"-"&$BV34,RateMatrix!$A:$DF,H34+10,FALSE),0) -> 0 | U34: =IF(ISBLANK(I34)=FALSE,VLOOKUP($C$8&"-"&$BV34,RateMatrix!$A:$DF,I34+10,FALSE),0) -> 0 | V34: =IF(ISBLANK(J34)=FALSE,VLOOKUP($C$8&"-"&$BV34,RateMatrix!$A:$DF,J34+10,FALSE),0) -> 0 | W34: =IF(ISBLANK(K34)=FALSE,VLOOKUP($C$8&"-"&$BV34,RateMatrix!$A:$DF,K34+10,FALSE),0) -> 0 | X34: =IF(BO34>=BR34,BR34,BO34) -> 0 | Y34: =AR34*(C$11/100) -> 0 | Z34: =AS34*($C$12/100) -> 0 | AA34: =AT34*($C$12/100) -> 0 | AB34: =AU34*($C$12/100) -> 0 | AC34: =AV34*($C$12/100) -> 0 | AD34: =AW34*($C$12/100) -> 0 | AE34: =AX34*($C$12/100) -> 0 | AF34: =IF((P34-X34)<0,0,P34-BQ34-X34) -> 0 | AG34: =IF((Q34-Y34)<0,0,Q34-Y34) -> 0 | AH34: =IF((R34-Z34)<0,0,R34-Z34) -> 0 | AI34: =IF((S34-AA34)<0,0,S34-AA34) -> 0 | AJ34: =IF((T34-AB34)<0,0,T34-AB34) -> 0 | AK34: =IF((U34-AC34)<0,0,U34-AC34) -> 0 | AL34: =IF((V34-AD34)<0,0,V34-AD34) -> 0 | AM34: =IF((W34-AE34)<0,0,W34-AE34) -> 0 | AN34: =SUM(AQ34:AX34) -> 0 | AO34: =SUM(AY34:BF34) -> 0 | AP34: =SUM(BG34:BN34) -> 0 | AQ34: =IF(ISBLANK(D34)=FALSE,VLOOKUP($C$16,RateMatrix!A:DF,D34+10,FALSE),0) -> 0 | AR34: =IFERROR(IF(ISBLANK(E34)=FALSE, VLOOKUP($C$16,RateMatrix!A:DF,E34+10,FALSE),0),0) -> 0 | AS34: =IFERROR(IF(ISBLANK(F34)=FALSE, VLOOKUP($C$16,RateMatrix!A:DF,F34+10,FALSE),0),0) -> 0 | AT34: =IF(ISBLANK(G34)=FALSE, VLOOKUP($C$16,RateMatrix!A:DF,G34+10,FALSE),0) -> 0 | AU34: =IF(ISBLANK(H34)=FALSE, VLOOKUP($C$16,RateMatrix!$A:$DF,H34+10,FALSE),0) -> 0 | AV34: =IF(ISBLANK(I34)=FALSE, VLOOKUP($C$16,RateMatrix!$A:$DF,I34+10,FALSE),0) -> 0 | AW34: =IF(ISBLANK(J34)=FALSE, VLOOKUP($C$16,RateMatrix!$A:$DF,J34+10,FALSE),0) -> 0 | AX34: =IF(ISBLANK(K34)=FALSE, VLOOKUP($C$16,RateMatrix!$A:$DF,K34+10,FALSE),0) -> 0 | AY34: =AQ34*(BS34/100) -> 0 | AZ34: =AR34*(BT34/100) -> 0 | BA34: =AS34*(BU34/100) -> 0 | BB34: =AT34*(BU34/100) -> 0 | BC34: =AU34*($BU34/100) -> 0 | BD34: =AV34*($BU34/100) -> 0 | BE34: =AW34*($BU34/100) -> 0 | BF34: =AX34*($BU34/100) -> 0 | BG34: =AQ34-AY34 -> 0 | BH34: =AR34-AZ34 -> 0 | BI34: =AS34-BA34 -> 0 | BJ34: =AT34-BB34 -> 0 | BK34: =AU34-BC34 -> 0 | BL34: =AV34-BD34 -> 0 | BM34: =AW34-BE34 -> 0 | BN34: =AX34-BF34 -> 0 | BO34: =AQ34*(BS34/100) -> 0 | BP34: =IF($C$13="Yes",IF(D34>0,IFERROR(VLOOKUP(D34,HC4CC!$C:$G,$C$8+1,FALSE),0),0),0) -> 0 | BQ34: =IF(P34>=BP34,BP34,P34) -> 0 | BR34: =P34-BQ34 -> 0 | BS34: =$C$10 -> 0 | BT34: =$C$11 -> 0 | BU34: =$C$12 -> 0 | BV34: =IFERROR(VLOOKUP(B34,RateMatrix!D:E,2,FALSE),"")
L35: =SUM(P35:W35) -> 0 | M35: =SUM(X35:AE35) -> 0 | N35: =SUM(AF35:AM35) -> 0 | O35: =BQ35 -> 0 | P35: =IFERROR(VLOOKUP($C$8&"-"&BV35,RateMatrix!A:DF,D35+10,FALSE),0) -> 0 | Q35: =IF(ISBLANK(E35)=FALSE, VLOOKUP($C$8&"-"&BV35,RateMatrix!A:DF,E35+10,FALSE),0) -> 0 | R35: =IF(ISBLANK(F35)=FALSE,VLOOKUP($C$8&"-"&BV35,RateMatrix!A:DF,F35+10,FALSE),0) -> 0 | S35: =IF(ISBLANK(G35)=FALSE,VLOOKUP($C$8&"-"&BV35,RateMatrix!A:DF,G35+10,FALSE),0) -> 0 | T35: =IF(ISBLANK(H35)=FALSE,VLOOKUP($C$8&"-"&$BV35,RateMatrix!$A:$DF,H35+10,FALSE),0) -> 0 | U35: =IF(ISBLANK(I35)=FALSE,VLOOKUP($C$8&"-"&$BV35,RateMatrix!$A:$DF,I35+10,FALSE),0) -> 0 | V35: =IF(ISBLANK(J35)=FALSE,VLOOKUP($C$8&"-"&$BV35,RateMatrix!$A:$DF,J35+10,FALSE),0) -> 0 | W35: =IF(ISBLANK(K35)=FALSE,VLOOKUP($C$8&"-"&$BV35,RateMatrix!$A:$DF,K35+10,FALSE),0) -> 0 | X35: =IF(BO35>=BR35,BR35,BO35) -> 0 | Y35: =AR35*(C$11/100) -> 0 | Z35: =AS35*($C$12/100) -> 0 | AA35: =AT35*($C$12/100) -> 0 | AB35: =AU35*($C$12/100) -> 0 | AC35: =AV35*($C$12/100) -> 0 | AD35: =AW35*($C$12/100) -> 0 | AE35: =AX35*($C$12/100) -> 0 | AF35: =IF((P35-X35)<0,0,P35-BQ35-X35) -> 0 | AG35: =IF((Q35-Y35)<0,0,Q35-Y35) -> 0 | AH35: =IF((R35-Z35)<0,0,R35-Z35) -> 0 | AI35: =IF((S35-AA35)<0,0,S35-AA35) -> 0 | AJ35: =IF((T35-AB35)<0,0,T35-AB35) -> 0 | AK35: =IF((U35-AC35)<0,0,U35-AC35) -> 0 | AL35: =IF((V35-AD35)<0,0,V35-AD35) -> 0 | AM35: =IF((W35-AE35)<0,0,W35-AE35) -> 0 | AN35: =SUM(AQ35:AX35) -> 0 | AO35: =SUM(AY35:BF35) -> 0 | AP35: =SUM(BG35:BN35) -> 0 | AQ35: =IF(ISBLANK(D35)=FALSE,VLOOKUP($C$16,RateMatrix!A:DF,D35+10,FALSE),0) -> 0 | AR35: =IFERROR(IF(ISBLANK(E35)=FALSE, VLOOKUP($C$16,RateMatrix!A:DF,E35+10,FALSE),0),0) -> 0 | AS35: =IFERROR(IF(ISBLANK(F35)=FALSE, VLOOKUP($C$16,RateMatrix!A:DF,F35+10,FALSE),0),0) -> 0 | AT35: =IF(ISBLANK(G35)=FALSE, VLOOKUP($C$16,RateMatrix!A:DF,G35+10,FALSE),0) -> 0 | AU35: =IF(ISBLANK(H35)=FALSE, VLOOKUP($C$16,RateMatrix!$A:$DF,H35+10,FALSE),0) -> 0 | AV35: =IF(ISBLANK(I35)=FALSE, VLOOKUP($C$16,RateMatrix!$A:$DF,I35+10,FALSE),0) -> 0 | AW35: =IF(ISBLANK(J35)=FALSE, VLOOKUP($C$16,RateMatrix!$A:$DF,J35+10,FALSE),0) -> 0 | AX35: =IF(ISBLANK(K35)=FALSE, VLOOKUP($C$16,RateMatrix!$A:$DF,K35+10,FALSE),0) -> 0 | AY35: =AQ35*(BS35/100) -> 0 | AZ35: =AR35*(BT35/100) -> 0 | BA35: =AS35*(BU35/100) -> 0 | BB35: =AT35*(BU35/100) -> 0 | BC35: =AU35*($BU35/100) -> 0 | BD35: =AV35*($BU35/100) -> 0 | BE35: =AW35*($BU35/100) -> 0 | BF35: =AX35*($BU35/100) -> 0 | BG35: =AQ35-AY35 -> 0 | BH35: =AR35-AZ35 -> 0 | BI35: =AS35-BA35 -> 0 | BJ35: =AT35-BB35 -> 0 | BK35: =AU35-BC35 -> 0 | BL35: =AV35-BD35 -> 0 | BM35: =AW35-BE35 -> 0 | BN35: =AX35-BF35 -> 0 | BO35: =AQ35*(BS35/100) -> 0 | BP35: =IF($C$13="Yes",IF(D35>0,IFERROR(VLOOKUP(D35,HC4CC!$C:$G,$C$8+1,FALSE),0),0),0) -> 0 | BQ35: =IF(P35>=BP35,BP35,P35) -> 0 | BR35: =P35-BQ35 -> 0 | BS35: =$C$10 -> 0 | BT35: =$C$11 -> 0 | BU35: =$C$12 -> 0 | BV35: =IFERROR(VLOOKUP(B35,RateMatrix!D:E,2,FALSE),"")
L36: =SUM(P36:W36) -> 0 | M36: =SUM(X36:AE36) -> 0 | N36: =SUM(AF36:AM36) -> 0 | O36: =BQ36 -> 0 | P36: =IFERROR(VLOOKUP($C$8&"-"&BV36,RateMatrix!A:DF,D36+10,FALSE),0) -> 0 | Q36: =IF(ISBLANK(E36)=FALSE, VLOOKUP($C$8&"-"&BV36,RateMatrix!A:DF,E36+10,FALSE),0) -> 0 | R36: =IF(ISBLANK(F36)=FALSE,VLOOKUP($C$8&"-"&BV36,RateMatrix!A:DF,F36+10,FALSE),0) -> 0 | S36: =IF(ISBLANK(G36)=FALSE,VLOOKUP($C$8&"-"&BV36,RateMatrix!A:DF,G36+10,FALSE),0) -> 0 | T36: =IF(ISBLANK(H36)=FALSE,VLOOKUP($C$8&"-"&$BV36,RateMatrix!$A:$DF,H36+10,FALSE),0) -> 0 | U36: =IF(ISBLANK(I36)=FALSE,VLOOKUP($C$8&"-"&$BV36,RateMatrix!$A:$DF,I36+10,FALSE),0) -> 0 | V36: =IF(ISBLANK(J36)=FALSE,VLOOKUP($C$8&"-"&$BV36,RateMatrix!$A:$DF,J36+10,FALSE),0) -> 0 | W36: =IF(ISBLANK(K36)=FALSE,VLOOKUP($C$8&"-"&$BV36,RateMatrix!$A:$DF,K36+10,FALSE),0) -> 0 | X36: =IF(BO36>=BR36,BR36,BO36) -> 0 | Y36: =AR36*(C$11/100) -> 0 | Z36: =AS36*($C$12/100) -> 0 | AA36: =AT36*($C$12/100) -> 0 | AB36: =AU36*($C$12/100) -> 0 | AC36: =AV36*($C$12/100) -> 0 | AD36: =AW36*($C$12/100) -> 0 | AE36: =AX36*($C$12/100) -> 0 | AF36: =IF((P36-X36)<0,0,P36-BQ36-X36) -> 0 | AG36: =IF((Q36-Y36)<0,0,Q36-Y36) -> 0 | AH36: =IF((R36-Z36)<0,0,R36-Z36) -> 0 | AI36: =IF((S36-AA36)<0,0,S36-AA36) -> 0 | AJ36: =IF((T36-AB36)<0,0,T36-AB36) -> 0 | AK36: =IF((U36-AC36)<0,0,U36-AC36) -> 0 | AL36: =IF((V36-AD36)<0,0,V36-AD36) -> 0 | AM36: =IF((W36-AE36)<0,0,W36-AE36) -> 0 | AN36: =SUM(AQ36:AX36) -> 0 | AO36: =SUM(AY36:BF36) -> 0 | AP36: =SUM(BG36:BN36) -> 0 | AQ36: =IF(ISBLANK(D36)=FALSE,VLOOKUP($C$16,RateMatrix!A:DF,D36+10,FALSE),0) -> 0 | AR36: =IFERROR(IF(ISBLANK(E36)=FALSE, VLOOKUP($C$16,RateMatrix!A:DF,E36+10,FALSE),0),0) -> 0 | AS36: =IFERROR(IF(ISBLANK(F36)=FALSE, VLOOKUP($C$16,RateMatrix!A:DF,F36+10,FALSE),0),0) -> 0 | AT36: =IF(ISBLANK(G36)=FALSE, VLOOKUP($C$16,RateMatrix!A:DF,G36+10,FALSE),0) -> 0 | AU36: =IF(ISBLANK(H36)=FALSE, VLOOKUP($C$16,RateMatrix!$A:$DF,H36+10,FALSE),0) -> 0 | AV36: =IF(ISBLANK(I36)=FALSE, VLOOKUP($C$16,RateMatrix!$A:$DF,I36+10,FALSE),0) -> 0 | AW36: =IF(ISBLANK(J36)=FALSE, VLOOKUP($C$16,RateMatrix!$A:$DF,J36+10,FALSE),0) -> 0 | AX36: =IF(ISBLANK(K36)=FALSE, VLOOKUP($C$16,RateMatrix!$A:$DF,K36+10,FALSE),0) -> 0 | AY36: =AQ36*(BS36/100) -> 0 | AZ36: =AR36*(BT36/100) -> 0 | BA36: =AS36*(BU36/100) -> 0 | BB36: =AT36*(BU36/100) -> 0 | BC36: =AU36*($BU36/100) -> 0 | BD36: =AV36*($BU36/100) -> 0 | BE36: =AW36*($BU36/100) -> 0 | BF36: =AX36*($BU36/100) -> 0 | BG36: =AQ36-AY36 -> 0 | BH36: =AR36-AZ36 -> 0 | BI36: =AS36-BA36 -> 0 | BJ36: =AT36-BB36 -> 0 | BK36: =AU36-BC36 -> 0 | BL36: =AV36-BD36 -> 0 | BM36: =AW36-BE36 -> 0 | BN36: =AX36-BF36 -> 0 | BO36: =AQ36*(BS36/100) -> 0 | BP36: =IF($C$13="Yes",IF(D36>0,IFERROR(VLOOKUP(D36,HC4CC!$C:$G,$C$8+1,FALSE),0),0),0) -> 0 | BQ36: =IF(P36>=BP36,BP36,P36) -> 0 | BR36: =P36-BQ36 -> 0 | BS36: =$C$10 -> 0 | BT36: =$C$11 -> 0 | BU36: =$C$12 -> 0 | BV36: =IFERROR(VLOOKUP(B36,RateMatrix!D:E,2,FALSE),"")
L37: =SUM(P37:W37) -> 0 | M37: =SUM(X37:AE37) -> 0 | N37: =SUM(AF37:AM37) -> 0 | O37: =BQ37 -> 0 | P37: =IFERROR(VLOOKUP($C$8&"-"&BV37,RateMatrix!A:DF,D37+10,FALSE),0) -> 0 | Q37: =IF(ISBLANK(E37)=FALSE, VLOOKUP($C$8&"-"&BV37,RateMatrix!A:DF,E37+10,FALSE),0) -> 0 | R37: =IF(ISBLANK(F37)=FALSE,VLOOKUP($C$8&"-"&BV37,RateMatrix!A:DF,F37+10,FALSE),0) -> 0 | S37: =IF(ISBLANK(G37)=FALSE,VLOOKUP($C$8&"-"&BV37,RateMatrix!A:DF,G37+10,FALSE),0) -> 0 | T37: =IF(ISBLANK(H37)=FALSE,VLOOKUP($C$8&"-"&$BV37,RateMatrix!$A:$DF,H37+10,FALSE),0) -> 0 | U37: =IF(ISBLANK(I37)=FALSE,VLOOKUP($C$8&"-"&$BV37,RateMatrix!$A:$DF,I37+10,FALSE),0) -> 0 | V37: =IF(ISBLANK(J37)=FALSE,VLOOKUP($C$8&"-"&$BV37,RateMatrix!$A:$DF,J37+10,FALSE),0) -> 0 | W37: =IF(ISBLANK(K37)=FALSE,VLOOKUP($C$8&"-"&$BV37,RateMatrix!$A:$DF,K37+10,FALSE),0) -> 0 | X37: =IF(BO37>=BR37,BR37,BO37) -> 0 | Y37: =AR37*(C$11/100) -> 0 | Z37: =AS37*($C$12/100) -> 0 | AA37: =AT37*($C$12/100) -> 0 | AB37: =AU37*($C$12/100) -> 0 | AC37: =AV37*($C$12/100) -> 0 | AD37: =AW37*($C$12/100) -> 0 | AE37: =AX37*($C$12/100) -> 0 | AF37: =IF((P37-X37)<0,0,P37-BQ37-X37) -> 0 | AG37: =IF((Q37-Y37)<0,0,Q37-Y37) -> 0 | AH37: =IF((R37-Z37)<0,0,R37-Z37) -> 0 | AI37: =IF((S37-AA37)<0,0,S37-AA37) -> 0 | AJ37: =IF((T37-AB37)<0,0,T37-AB37) -> 0 | AK37: =IF((U37-AC37)<0,0,U37-AC37) -> 0 | AL37: =IF((V37-AD37)<0,0,V37-AD37) -> 0 | AM37: =IF((W37-AE37)<0,0,W37-AE37) -> 0 | AN37: =SUM(AQ37:AX37) -> 0 | AO37: =SUM(AY37:BF37) -> 0 | AP37: =SUM(BG37:BN37) -> 0 | AQ37: =IF(ISBLANK(D37)=FALSE,VLOOKUP($C$16,RateMatrix!A:DF,D37+10,FALSE),0) -> 0 | AR37: =IFERROR(IF(ISBLANK(E37)=FALSE, VLOOKUP($C$16,RateMatrix!A:DF,E37+10,FALSE),0),0) -> 0 | AS37: =IFERROR(IF(ISBLANK(F37)=FALSE, VLOOKUP($C$16,RateMatrix!A:DF,F37+10,FALSE),0),0) -> 0 | AT37: =IF(ISBLANK(G37)=FALSE, VLOOKUP($C$16,RateMatrix!A:DF,G37+10,FALSE),0) -> 0 | AU37: =IF(ISBLANK(H37)=FALSE, VLOOKUP($C$16,RateMatrix!$A:$DF,H37+10,FALSE),0) -> 0 | AV37: =IF(ISBLANK(I37)=FALSE, VLOOKUP($C$16,RateMatrix!$A:$DF,I37+10,FALSE),0) -> 0 | AW37: =IF(ISBLANK(J37)=FALSE, VLOOKUP($C$16,RateMatrix!$A:$DF,J37+10,FALSE),0) -> 0 | AX37: =IF(ISBLANK(K37)=FALSE, VLOOKUP($C$16,RateMatrix!$A:$DF,K37+10,FALSE),0) -> 0 | AY37: =AQ37*(BS37/100) -> 0 | AZ37: =AR37*(BT37/100) -> 0 | BA37: =AS37*(BU37/100) -> 0 | BB37: =AT37*(BU37/100) -> 0 | BC37: =AU37*($BU37/100) -> 0 | BD37: =AV37*($BU37/100) -> 0 | BE37: =AW37*($BU37/100) -> 0 | BF37: =AX37*($BU37/100) -> 0 | BG37: =AQ37-AY37 -> 0 | BH37: =AR37-AZ37 -> 0 | BI37: =AS37-BA37 -> 0 | BJ37: =AT37-BB37 -> 0 | BK37: =AU37-BC37 -> 0 | BL37: =AV37-BD37 -> 0 | BM37: =AW37-BE37 -> 0 | BN37: =AX37-BF37 -> 0 | BO37: =AQ37*(BS37/100) -> 0 | BP37: =IF($C$13="Yes",IF(D37>0,IFERROR(VLOOKUP(D37,HC4CC!$C:$G,$C$8+1,FALSE),0),0),0) -> 0 | BQ37: =IF(P37>=BP37,BP37,P37) -> 0 | BR37: =P37-BQ37 -> 0 | BS37: =$C$10 -> 0 | BT37: =$C$11 -> 0 | BU37: =$C$12 -> 0 | BV37: =IFERROR(VLOOKUP(B37,RateMatrix!D:E,2,FALSE),"")
L38: =SUM(P38:W38) -> 0 | M38: =SUM(X38:AE38) -> 0 | N38: =SUM(AF38:AM38) -> 0 | O38: =BQ38 -> 0 | P38: =IFERROR(VLOOKUP($C$8&"-"&BV38,RateMatrix!A:DF,D38+10,FALSE),0) -> 0 | Q38: =IF(ISBLANK(E38)=FALSE, VLOOKUP($C$8&"-"&BV38,RateMatrix!A:DF,E38+10,FALSE),0) -> 0 | R38: =IF(ISBLANK(F38)=FALSE,VLOOKUP($C$8&"-"&BV38,RateMatrix!A:DF,F38+10,FALSE),0) -> 0 | S38: =IF(ISBLANK(G38)=FALSE,VLOOKUP($C$8&"-"&BV38,RateMatrix!A:DF,G38+10,FALSE),0) -> 0 | T38: =IF(ISBLANK(H38)=FALSE,VLOOKUP($C$8&"-"&$BV38,RateMatrix!$A:$DF,H38+10,FALSE),0) -> 0 | U38: =IF(ISBLANK(I38)=FALSE,VLOOKUP($C$8&"-"&$BV38,RateMatrix!$A:$DF,I38+10,FALSE),0) -> 0 | V38: =IF(ISBLANK(J38)=FALSE,VLOOKUP($C$8&"-"&$BV38,RateMatrix!$A:$DF,J38+10,FALSE),0) -> 0 | W38: =IF(ISBLANK(K38)=FALSE,VLOOKUP($C$8&"-"&$BV38,RateMatrix!$A:$DF,K38+10,FALSE),0) -> 0 | X38: =IF(BO38>=BR38,BR38,BO38) -> 0 | Y38: =AR38*(C$11/100) -> 0 | Z38: =AS38*($C$12/100) -> 0 | AA38: =AT38*($C$12/100) -> 0 | AB38: =AU38*($C$12/100) -> 0 | AC38: =AV38*($C$12/100) -> 0 | AD38: =AW38*($C$12/100) -> 0 | AE38: =AX38*($C$12/100) -> 0 | AF38: =IF((P38-X38)<0,0,P38-BQ38-X38) -> 0 | AG38: =IF((Q38-Y38)<0,0,Q38-Y38) -> 0 | AH38: =IF((R38-Z38)<0,0,R38-Z38) -> 0 | AI38: =IF((S38-AA38)<0,0,S38-AA38) -> 0 | AJ38: =IF((T38-AB38)<0,0,T38-AB38) -> 0 | AK38: =IF((U38-AC38)<0,0,U38-AC38) -> 0 | AL38: =IF((V38-AD38)<0,0,V38-AD38) -> 0 | AM38: =IF((W38-AE38)<0,0,W38-AE38) -> 0 | AN38: =SUM(AQ38:AX38) -> 0 | AO38: =SUM(AY38:BF38) -> 0 | AP38: =SUM(BG38:BN38) -> 0 | AQ38: =IF(ISBLANK(D38)=FALSE,VLOOKUP($C$16,RateMatrix!A:DF,D38+10,FALSE),0) -> 0 | AR38: =IFERROR(IF(ISBLANK(E38)=FALSE, VLOOKUP($C$16,RateMatrix!A:DF,E38+10,FALSE),0),0) -> 0 | AS38: =IFERROR(IF(ISBLANK(F38)=FALSE, VLOOKUP($C$16,RateMatrix!A:DF,F38+10,FALSE),0),0) -> 0 | AT38: =IF(ISBLANK(G38)=FALSE, VLOOKUP($C$16,RateMatrix!A:DF,G38+10,FALSE),0) -> 0 | AU38: =IF(ISBLANK(H38)=FALSE, VLOOKUP($C$16,RateMatrix!$A:$DF,H38+10,FALSE),0) -> 0 | AV38: =IF(ISBLANK(I38)=FALSE, VLOOKUP($C$16,RateMatrix!$A:$DF,I38+10,FALSE),0) -> 0 | AW38: =IF(ISBLANK(J38)=FALSE, VLOOKUP($C$16,RateMatrix!$A:$DF,J38+10,FALSE),0) -> 0 | AX38: =IF(ISBLANK(K38)=FALSE, VLOOKUP($C$16,RateMatrix!$A:$DF,K38+10,FALSE),0) -> 0 | AY38: =AQ38*(BS38/100) -> 0 | AZ38: =AR38*(BT38/100) -> 0 | BA38: =AS38*(BU38/100) -> 0 | BB38: =AT38*(BU38/100) -> 0 | BC38: =AU38*($BU38/100) -> 0 | BD38: =AV38*($BU38/100) -> 0 | BE38: =AW38*($BU38/100) -> 0 | BF38: =AX38*($BU38/100) -> 0 | BG38: =AQ38-AY38 -> 0 | BH38: =AR38-AZ38 -> 0 | BI38: =AS38-BA38 -> 0 | BJ38: =AT38-BB38 -> 0 | BK38: =AU38-BC38 -> 0 | BL38: =AV38-BD38 -> 0 | BM38: =AW38-BE38 -> 0 | BN38: =AX38-BF38 -> 0 | BO38: =AQ38*(BS38/100) -> 0 | BP38: =IF($C$13="Yes",IF(D38>0,IFERROR(VLOOKUP(D38,HC4CC!$C:$G,$C$8+1,FALSE),0),0),0) -> 0 | BQ38: =IF(P38>=BP38,BP38,P38) -> 0 | BR38: =P38-BQ38 -> 0 | BS38: =$C$10 -> 0 | BT38: =$C$11 -> 0 | BU38: =$C$12 -> 0 | BV38: =IFERROR(VLOOKUP(B38,RateMatrix!D:E,2,FALSE),"")
L39: =SUM(P39:W39) -> 0 | M39: =SUM(X39:AE39) -> 0 | N39: =SUM(AF39:AM39) -> 0 | O39: =BQ39 -> 0 | P39: =IFERROR(VLOOKUP($C$8&"-"&BV39,RateMatrix!A:DF,D39+10,FALSE),0) -> 0 | Q39: =IF(ISBLANK(E39)=FALSE, VLOOKUP($C$8&"-"&BV39,RateMatrix!A:DF,E39+10,FALSE),0) -> 0 | R39: =IF(ISBLANK(F39)=FALSE,VLOOKUP($C$8&"-"&BV39,RateMatrix!A:DF,F39+10,FALSE),0) -> 0 | S39: =IF(ISBLANK(G39)=FALSE,VLOOKUP($C$8&"-"&BV39,RateMatrix!A:DF,G39+10,FALSE),0) -> 0 | T39: =IF(ISBLANK(H39)=FALSE,VLOOKUP($C$8&"-"&$BV39,RateMatrix!$A:$DF,H39+10,FALSE),0) -> 0 | U39: =IF(ISBLANK(I39)=FALSE,VLOOKUP($C$8&"-"&$BV39,RateMatrix!$A:$DF,I39+10,FALSE),0) -> 0 | V39: =IF(ISBLANK(J39)=FALSE,VLOOKUP($C$8&"-"&$BV39,RateMatrix!$A:$DF,J39+10,FALSE),0) -> 0 | W39: =IF(ISBLANK(K39)=FALSE,VLOOKUP($C$8&"-"&$BV39,RateMatrix!$A:$DF,K39+10,FALSE),0) -> 0 | X39: =IF(BO39>=BR39,BR39,BO39) -> 0 | Y39: =AR39*(C$11/100) -> 0 | Z39: =AS39*($C$12/100) -> 0 | AA39: =AT39*($C$12/100) -> 0 | AB39: =AU39*($C$12/100) -> 0 | AC39: =AV39*($C$12/100) -> 0 | AD39: =AW39*($C$12/100) -> 0 | AE39: =AX39*($C$12/100) -> 0 | AF39: =IF((P39-X39)<0,0,P39-BQ39-X39) -> 0 | AG39: =IF((Q39-Y39)<0,0,Q39-Y39) -> 0 | AH39: =IF((R39-Z39)<0,0,R39-Z39) -> 0 | AI39: =IF((S39-AA39)<0,0,S39-AA39) -> 0 | AJ39: =IF((T39-AB39)<0,0,T39-AB39) -> 0 | AK39: =IF((U39-AC39)<0,0,U39-AC39) -> 0 | AL39: =IF((V39-AD39)<0,0,V39-AD39) -> 0 | AM39: =IF((W39-AE39)<0,0,W39-AE39) -> 0 | AN39: =SUM(AQ39:AX39) -> 0 | AO39: =SUM(AY39:BF39) -> 0 | AP39: =SUM(BG39:BN39) -> 0 | AQ39: =IF(ISBLANK(D39)=FALSE,VLOOKUP($C$16,RateMatrix!A:DF,D39+10,FALSE),0) -> 0 | AR39: =IFERROR(IF(ISBLANK(E39)=FALSE, VLOOKUP($C$16,RateMatrix!A:DF,E39+10,FALSE),0),0) -> 0 | AS39: =IFERROR(IF(ISBLANK(F39)=FALSE, VLOOKUP($C$16,RateMatrix!A:DF,F39+10,FALSE),0),0) -> 0 | AT39: =IF(ISBLANK(G39)=FALSE, VLOOKUP($C$16,RateMatrix!A:DF,G39+10,FALSE),0) -> 0 | AU39: =IF(ISBLANK(H39)=FALSE, VLOOKUP($C$16,RateMatrix!$A:$DF,H39+10,FALSE),0) -> 0 | AV39: =IF(ISBLANK(I39)=FALSE, VLOOKUP($C$16,RateMatrix!$A:$DF,I39+10,FALSE),0) -> 0 | AW39: =IF(ISBLANK(J39)=FALSE, VLOOKUP($C$16,RateMatrix!$A:$DF,J39+10,FALSE),0) -> 0 | AX39: =IF(ISBLANK(K39)=FALSE, VLOOKUP($C$16,RateMatrix!$A:$DF,K39+10,FALSE),0) -> 0 | AY39: =AQ39*(BS39/100) -> 0 | AZ39: =AR39*(BT39/100) -> 0 | BA39: =AS39*(BU39/100) -> 0 | BB39: =AT39*(BU39/100) -> 0 | BC39: =AU39*($BU39/100) -> 0 | BD39: =AV39*($BU39/100) -> 0 | BE39: =AW39*($BU39/100) -> 0 | BF39: =AX39*($BU39/100) -> 0 | BG39: =AQ39-AY39 -> 0 | BH39: =AR39-AZ39 -> 0 | BI39: =AS39-BA39 -> 0 | BJ39: =AT39-BB39 -> 0 | BK39: =AU39-BC39 -> 0 | BL39: =AV39-BD39 -> 0 | BM39: =AW39-BE39 -> 0 | BN39: =AX39-BF39 -> 0 | BO39: =AQ39*(BS39/100) -> 0 | BP39: =IF($C$13="Yes",IF(D39>0,IFERROR(VLOOKUP(D39,HC4CC!$C:$G,$C$8+1,FALSE),0),0),0) -> 0 | BQ39: =IF(P39>=BP39,BP39,P39) -> 0 | BR39: =P39-BQ39 -> 0 | BS39: =$C$10 -> 0 | BT39: =$C$11 -> 0 | BU39: =$C$12 -> 0 | BV39: =IFERROR(VLOOKUP(B39,RateMatrix!D:E,2,FALSE),"")
L40: =SUM(P40:W40) -> 0 | M40: =SUM(X40:AE40) -> 0 | N40: =SUM(AF40:AM40) -> 0 | O40: =BQ40 -> 0 | P40: =IFERROR(VLOOKUP($C$8&"-"&BV40,RateMatrix!A:DF,D40+10,FALSE),0) -> 0 | Q40: =IF(ISBLANK(E40)=FALSE, VLOOKUP($C$8&"-"&BV40,RateMatrix!A:DF,E40+10,FALSE),0) -> 0 | R40: =IF(ISBLANK(F40)=FALSE,VLOOKUP($C$8&"-"&BV40,RateMatrix!A:DF,F40+10,FALSE),0) -> 0 | S40: =IF(ISBLANK(G40)=FALSE,VLOOKUP($C$8&"-"&BV40,RateMatrix!A:DF,G40+10,FALSE),0) -> 0 | T40: =IF(ISBLANK(H40)=FALSE,VLOOKUP($C$8&"-"&$BV40,RateMatrix!$A:$DF,H40+10,FALSE),0) -> 0 | U40: =IF(ISBLANK(I40)=FALSE,VLOOKUP($C$8&"-"&$BV40,RateMatrix!$A:$DF,I40+10,FALSE),0) -> 0 | V40: =IF(ISBLANK(J40)=FALSE,VLOOKUP($C$8&"-"&$BV40,RateMatrix!$A:$DF,J40+10,FALSE),0) -> 0 | W40: =IF(ISBLANK(K40)=FALSE,VLOOKUP($C$8&"-"&$BV40,RateMatrix!$A:$DF,K40+10,FALSE),0) -> 0 | X40: =IF(BO40>=BR40,BR40,BO40) -> 0 | Y40: =AR40*(C$11/100) -> 0 | Z40: =AS40*($C$12/100) -> 0 | AA40: =AT40*($C$12/100) -> 0 | AB40: =AU40*($C$12/100) -> 0 | AC40: =AV40*($C$12/100) -> 0 | AD40: =AW40*($C$12/100) -> 0 | AE40: =AX40*($C$12/100) -> 0 | AF40: =IF((P40-X40)<0,0,P40-BQ40-X40) -> 0 | AG40: =IF((Q40-Y40)<0,0,Q40-Y40) -> 0 | AH40: =IF((R40-Z40)<0,0,R40-Z40) -> 0 | AI40: =IF((S40-AA40)<0,0,S40-AA40) -> 0 | AJ40: =IF((T40-AB40)<0,0,T40-AB40) -> 0 | AK40: =IF((U40-AC40)<0,0,U40-AC40) -> 0 | AL40: =IF((V40-AD40)<0,0,V40-AD40) -> 0 | AM40: =IF((W40-AE40)<0,0,W40-AE40) -> 0 | AN40: =SUM(AQ40:AX40) -> 0 | AO40: =SUM(AY40:BF40) -> 0 | AP40: =SUM(BG40:BN40) -> 0 | AQ40: =IF(ISBLANK(D40)=FALSE,VLOOKUP($C$16,RateMatrix!A:DF,D40+10,FALSE),0) -> 0 | AR40: =IFERROR(IF(ISBLANK(E40)=FALSE, VLOOKUP($C$16,RateMatrix!A:DF,E40+10,FALSE),0),0) -> 0 | AS40: =IFERROR(IF(ISBLANK(F40)=FALSE, VLOOKUP($C$16,RateMatrix!A:DF,F40+10,FALSE),0),0) -> 0 | AT40: =IF(ISBLANK(G40)=FALSE, VLOOKUP($C$16,RateMatrix!A:DF,G40+10,FALSE),0) -> 0 | AU40: =IF(ISBLANK(H40)=FALSE, VLOOKUP($C$16,RateMatrix!$A:$DF,H40+10,FALSE),0) -> 0 | AV40: =IF(ISBLANK(I40)=FALSE, VLOOKUP($C$16,RateMatrix!$A:$DF,I40+10,FALSE),0) -> 0 | AW40: =IF(ISBLANK(J40)=FALSE, VLOOKUP($C$16,RateMatrix!$A:$DF,J40+10,FALSE),0) -> 0 | AX40: =IF(ISBLANK(K40)=FALSE, VLOOKUP($C$16,RateMatrix!$A:$DF,K40+10,FALSE),0) -> 0 | AY40: =AQ40*(BS40/100) -> 0 | AZ40: =AR40*(BT40/100) -> 0 | BA40: =AS40*(BU40/100) -> 0 | BB40: =AT40*(BU40/100) -> 0 | BC40: =AU40*($BU40/100) -> 0 | BD40: =AV40*($BU40/100) -> 0 | BE40: =AW40*($BU40/100) -> 0 | BF40: =AX40*($BU40/100) -> 0 | BG40: =AQ40-AY40 -> 0 | BH40: =AR40-AZ40 -> 0 | BI40: =AS40-BA40 -> 0 | BJ40: =AT40-BB40 -> 0 | BK40: =AU40-BC40 -> 0 | BL40: =AV40-BD40 -> 0 | BM40: =AW40-BE40 -> 0 | BN40: =AX40-BF40 -> 0 | BO40: =AQ40*(BS40/100) -> 0 | BP40: =IF($C$13="Yes",IF(D40>0,IFERROR(VLOOKUP(D40,HC4CC!$C:$G,$C$8+1,FALSE),0),0),0) -> 0 | BQ40: =IF(P40>=BP40,BP40,P40) -> 0 | BR40: =P40-BQ40 -> 0 | BS40: =$C$10 -> 0 | BT40: =$C$11 -> 0 | BU40: =$C$12 -> 0 | BV40: =IFERROR(VLOOKUP(B40,RateMatrix!D:E,2,FALSE),"")
... L127: =SUM(P127:W127) -> 0 | M127: =SUM(X127:AE127) -> 0 | N127: =SUM(AF127:AM127) -> 0 | O127: =BQ127 -> 0 | P127: =IFERROR(VLOOKUP($C$8&"-"&BV127,RateMatrix!A:DF,D127+10,FALSE),0) -> 0 | Q127: =IF(ISBLANK(E127)=FALSE, VLOOKUP($C$8&"-"&BV127,RateMatrix!A:DF,E127+10,FALSE),0) -> 0 | R127: =IF(ISBLANK(F127)=FALSE,VLOOKUP($C$8&"-"&BV127,RateMatrix!A:DF,F127+10,FALSE),0) -> 0 | S127: =IF(ISBLANK(G127)=FALSE,VLOOKUP($C$8&"-"&BV127,RateMatrix!A:DF,G127+10,FALSE),0) -> 0 | T127: =IF(ISBLANK(H127)=FALSE,VLOOKUP($C$8&"-"&$BV127,RateMatrix!$A:$DF,H127+10,FALSE),0) -> 0 | U127: =IF(ISBLANK(I127)=FALSE,VLOOKUP($C$8&"-"&$BV127,RateMatrix!$A:$DF,I127+10,FALSE),0) -> 0 | V127: =IF(ISBLANK(J127)=FALSE,VLOOKUP($C$8&"-"&$BV127,RateMatrix!$A:$DF,J127+10,FALSE),0) -> 0 | W127: =IF(ISBLANK(K127)=FALSE,VLOOKUP($C$8&"-"&$BV127,RateMatrix!$A:$DF,K127+10,FALSE),0) -> 0 | X127: =IF(BO127>=BR127,BR127,BO127) -> 0 | Y127: =AR127*(C$11/100) -> 0 | Z127: =AS127*($C$12/100) -> 0 | AA127: =AT127*($C$12/100) -> 0 | AB127: =AU127*($C$12/100) -> 0 | AC127: =AV127*($C$12/100) -> 0 | AD127: =AW127*($C$12/100) -> 0 | AE127: =AX127*($C$12/100) -> 0 | AF127: =IF((P127-X127)<0,0,P127-BQ127-X127) -> 0 | AG127: =IF((Q127-Y127)<0,0,Q127-Y127) -> 0 | AH127: =IF((R127-Z127)<0,0,R127-Z127) -> 0 | AI127: =IF((S127-AA127)<0,0,S127-AA127) -> 0 | AJ127: =IF((T127-AB127)<0,0,T127-AB127) -> 0 | AK127: =IF((U127-AC127)<0,0,U127-AC127) -> 0 | AL127: =IF((V127-AD127)<0,0,V127-AD127) -> 0 | AM127: =IF((W127-AE127)<0,0,W127-AE127) -> 0 | AN127: =SUM(AQ127:AX127) -> 0 | AO127: =SUM(AY127:BF127) -> 0 | AP127: =SUM(BG127:BN127) -> 0 | AQ127: =IF(ISBLANK(D127)=FALSE,VLOOKUP($C$16,RateMatrix!A:DF,D127+10,FALSE),0) -> 0 | AR127: =IFERROR(IF(ISBLANK(E127)=FALSE, VLOOKUP($C$16,RateMatrix!A:DF,E127+10,FALSE),0),0) -> 0 | AS127: =IFERROR(IF(ISBLANK(F127)=FALSE, VLOOKUP($C$16,RateMatrix!A:DF,F127+10,FALSE),0),0) -> 0 | AT127: =IF(ISBLANK(G127)=FALSE, VLOOKUP($C$16,RateMatrix!A:DF,G127+10,FALSE),0) -> 0 | AU127: =IF(ISBLANK(H127)=FALSE, VLOOKUP($C$16,RateMatrix!$A:$DF,H127+10,FALSE),0) -> 0 | AV127: =IF(ISBLANK(I127)=FALSE, VLOOKUP($C$16,RateMatrix!$A:$DF,I127+10,FALSE),0) -> 0 | AW127: =IF(ISBLANK(J127)=FALSE, VLOOKUP($C$16,RateMatrix!$A:$DF,J127+10,FALSE),0) -> 0 | AX127: =IF(ISBLANK(K127)=FALSE, VLOOKUP($C$16,RateMatrix!$A:$DF,K127+10,FALSE),0) -> 0 | AY127: =AQ127*(BS127/100) -> 0 | AZ127: =AR127*(BT127/100) -> 0 | BA127: =AS127*(BU127/100) -> 0 | BB127: =AT127*(BU127/100) -> 0 | BC127: =AU127*($BU127/100) -> 0 | BD127: =AV127*($BU127/100) -> 0 | BE127: =AW127*($BU127/100) -> 0 | BF127: =AX127*($BU127/100) -> 0 | BG127: =AQ127-AY127 -> 0 | BH127: =AR127-AZ127 -> 0 | BI127: =AS127-BA127 -> 0 | BJ127: =AT127-BB127 -> 0 | BK127: =AU127-BC127 -> 0 | BL127: =AV127-BD127 -> 0 | BM127: =AW127-BE127 -> 0 | BN127: =AX127-BF127 -> 0 | BO127: =AQ127*(BS127/100) -> 0 | BP127: =IF($C$13="Yes",IF(D127>0,IFERROR(VLOOKUP(D127,HC4CC!$C:$G,$C$8+1,FALSE),0),0),0) -> 0 | BQ127: =IF(P127>=BP127,BP127,P127) -> 0 | BR127: =P127-BQ127 -> 0 | BS127: =$C$10 -> 0 | BT127: =$C$11 -> 0 | BU127: =$C$12 -> 0 | BV127: =IFERROR(VLOOKUP(B127,RateMatrix!D:E,2,FALSE),"")

Sheet Age Calculator
B1: DC HEALTH BENEFIT EXCHANGE AUTHORITY
B2: SHOP Premium Calculator
B4: Age Calculator | C4: Enter Coverage Start Date
B5: Group's Coverage Start Date | C5: 46388
B7: Enter Dates of Birth | C7: Age at Coverage Start
B8: 36038 | C8: =IF(B8>0,ROUNDDOWN(($C$5-B8)/365.25,0),"") -> 28
C10: =IF(B10>0,ROUNDDOWN(($C$5-B10)/365.25,0),"")
C11: =IF(B11>0,ROUNDDOWN(($C$5-B11)/365.25,0),"")
C12: =IF(B12>0,ROUNDDOWN(($C$5-B12)/365.25,0),"")
C13: =IF(B13>0,ROUNDDOWN(($C$5-B13)/365.25,0),"")
C14: =IF(B14>0,ROUNDDOWN(($C$5-B14)/365.25,0),"")
C15: =IF(B15>0,ROUNDDOWN(($C$5-B15)/365.25,0),"")
C16: =IF(B16>0,ROUNDDOWN(($C$5-B16)/365.25,0),"")
C17: =IF(B17>0,ROUNDDOWN(($C$5-B17)/365.25,0),"")
C18: =IF(B18>0,ROUNDDOWN(($C$5-B18)/365.25,0),"")
C19: =IF(B19>0,ROUNDDOWN(($C$5-B19)/365.25,0),"")
C20: =IF(B20>0,ROUNDDOWN(($C$5-B20)/365.25,0),"")
C21: =IF(B21>0,ROUNDDOWN(($C$5-B21)/365.25,0),"")
... C30: =IF(B30>0,ROUNDDOWN(($C$5-B30)/365.25,0),"")

Sheet RateMatrix
A1: Lookup Key | B1: Quarter | C1: Carrier | D1: Plan Name | E1: Hios | F1: Metal Level | G1: Product Type | H1: Standard | I1: Network | J1: 0 | K1: 1 | L1: 2 | M1: 3 | N1: 4 | O1: 5 | P1: 6 | Q1: 7 | R1: 8 | S1: 9 | T1: 10 | U1: 11 | V1: 12 | W1: 13 | X1: 14 | Y1: 15 | Z1: 16 | AA1: 17 | AB1: 18 | AC1: 19 | AD1: 20 | AE1: 21 | AF1: 22 | AG1: 23 | AH1: 24 | AI1: 25 | AJ1: 26 | AK1: 27 | AL1: 28 | AM1: 29 | AN1: 30 | AO1: 31 | AP1: 32 | AQ1: 33 | AR1: 34 | AS1: 35 | AT1: 36 | AU1: 37 | AV1: 38 | AW1: 39 | AX1: 40 | AY1: 41 | AZ1: 42 | BA1: 43 | BB1: 44 | BC1: 45 | BD1: 46 | BE1: 47 | BF1: 48 | BG1: 49 | BH1: 50 | BI1: 51 | BJ1: 52 | BK1: 53 | BL1: 54 | BM1: 55 | BN1: 56 | BO1: 57 | BP1: 58 | BQ1: 59 | BR1: 60 | BS1: 61 | BT1: 62 | BU1: 63 | BV1: 64 | BW1: 65 | BX1: 66 | BY1: 67 | BZ1: 68 | CA1: 69 | CB1: 70 | CC1: 71 | CD1: 72 | CE1: 73 | CF1: 74 | CG1: 75 | CH1: 76 | CI1: 77 | CJ1: 78 | CK1: 79 | CL1: 80 | CM1: 81 | CN1: 82 | CO1: 83 | CP1: 84 | CQ1: 85 | CR1: 86 | CS1: 87 | CT1: 88 | CU1: 89 | CV1: 90 | CW1: 91 | CX1: 92 | CY1: 93 | CZ1: 94 | DA1: 95 | DB1: 96 | DC1: 97 | DD1: 98 | DE1: 99 | DF1: 100 | FE1: 68 | FF1: 69
A2: =B2&"-"&E2 -> 1-86052DC0440031 | B2: 1 | C2: CareFirst BlueChoice | D2: BlueChoice Advantage Bronze 6000 Ded | E2: 86052DC0440031 | F2: Expanded Bronze | G2: POS | H2: No | I2: Nationwide | J2: 401.09 | K2: 401.09 | L2: 401.09 | M2: 401.09 | N2: 401.09 | O2: 401.09 | P2: 401.09 | Q2: 401.09 | R2: 401.09 | S2: 401.09 | T2: 401.09 | U2: 401.09 | V2: 401.09 | W2: 401.09 | X2: 401.09 | Y2: 401.09 | Z2: 401.09 | AA2: 401.09 | AB2: 401.09 | AC2: 401.09 | AD2: 401.09 | AE2: 445.86 | AF2: 445.86 | AG2: 445.86 | AH2: 445.86 | AI2: 445.86 | AJ2: 445.86 | AK2: 445.86 | AL2: 456.29 | AM2: 466.1 | AN2: 477.75 | AO2: 490.02 | AP2: 501.06 | AQ2: 512.71 | AR2: 524.98 | AS2: 537.24 | AT2: 549.51 | AU2: 561.77 | AV2: 568.52 | AW2: 575.27 | AX2: 597.96 | AY2: 621.26 | AZ2: 645.79 | BA2: 670.94 | BB2: 697.31 | BC2: 724.3 | BD2: 752.51 | BE2: 781.94 | BF2: 812.61 | BG2: 844.5 | BH2: 877.62 | BI2: 911.96 | BJ2: 947.53 | BK2: 984.33 | BL2: 1022.97 | BM2: 1062.83 | BN2: 1104.54 | BO2: 1147.47 | BP2: 1192.24 | BQ2: 1238.85 | BR2: 1287.3 | BS2: 1337.55 | BT2: 1337.55 | BU2: 1337.55 | BV2: 1337.55 | BW2: 1337.55 | BX2: 1337.55 | BY2: 1337.55 | BZ2: 1337.55 | CA2: 1337.55 | CB2: 1337.55 | CC2: 1337.55 | CD2: 1337.55 | CE2: 1337.55 | CF2: 1337.55 | CG2: 1337.55 | CH2: 1337.55 | CI2: 1337.55 | CJ2: 1337.55 | CK2: 1337.55 | CL2: 1337.55 | CM2: 1337.55 | CN2: 1337.55 | CO2: 1337.55 | CP2: 1337.55 | CQ2: 1337.55 | CR2: 1337.55 | CS2: 1337.55 | CT2: 1337.55 | CU2: 1337.55 | CV2: 1337.55 | CW2: 1337.55 | CX2: 1337.55 | CY2: 1337.55 | CZ2: 1337.55 | DA2: 1337.55 | DB2: 1337.55 | DC2: 1337.55 | DD2: 1337.55 | DE2: 1337.55 | DF2: 1337.55
A3: =B3&"-"&E3 -> 2-86052DC0440031 | B3: 2 | C3: CareFirst BlueChoice | D3: BlueChoice Advantage Bronze 6000 Ded | E3: 86052DC0440031 | F3: Expanded Bronze | G3: POS | H3: No | I3: Nationwide | J3: 411.29 | K3: 411.29 | L3: 411.29 | M3: 411.29 | N3: 411.29 | O3: 411.29 | P3: 411.29 | Q3: 411.29 | R3: 411.29 | S3: 411.29 | T3: 411.29 | U3: 411.29 | V3: 411.29 | W3: 411.29 | X3: 411.29 | Y3: 411.29 | Z3: 411.29 | AA3: 411.29 | AB3: 411.29 | AC3: 411.29 | AD3: 411.29 | AE3: 457.2 | AF3: 457.2 | AG3: 457.2 | AH3: 457.2 | AI3: 457.2 | AJ3: 457.2 | AK3: 457.2 | AL3: 467.89 | AM3: 477.96 | AN3: 489.91 | AO3: 502.48 | AP3: 513.8 | AQ3: 525.75 | AR3: 538.33 | AS3: 550.91 | AT3: 563.49 | AU3: 576.06 | AV3: 582.98 | AW3: 589.9 | AX3: 613.17 | AY3: 637.07 | AZ3: 662.22 | BA3: 688.01 | BB3: 715.05 | BC3: 742.72 | BD3: 771.65 | BE3: 801.83 | BF3: 833.28 | BG3: 865.98 | BH3: 899.94 | BI3: 935.16 | BJ3: 971.64 | BK3: 1009.37 | BL3: 1048.99 | BM3: 1089.87 | BN3: 1132.63 | BO3: 1176.65 | BP3: 1222.56 | BQ3: 1270.36 | BR3: 1320.04 | BS3: 1371.58 | BT3: 1371.58 | BU3: 1371.58 | BV3: 1371.58 | BW3: 1371.58 | BX3: 1371.58 | BY3: 1371.58 | BZ3: 1371.58 | CA3: 1371.58 | CB3: 1371.58 | CC3: 1371.58 | CD3: 1371.58 | CE3: 1371.58 | CF3: 1371.58 | CG3: 1371.58 | CH3: 1371.58 | CI3: 1371.58 | CJ3: 1371.58 | CK3: 1371.58 | CL3: 1371.58 | CM3: 1371.58 | CN3: 1371.58 | CO3: 1371.58 | CP3: 1371.58 | CQ3: 1371.58 | CR3: 1371.58 | CS3: 1371.58 | CT3: 1371.58 | CU3: 1371.58 | CV3: 1371.58 | CW3: 1371.58 | CX3: 1371.58 | CY3: 1371.58 | CZ3: 1371.58 | DA3: 1371.58 | DB3: 1371.58 | DC3: 1371.58 | DD3: 1371.58 | DE3: 1371.58 | DF3: 1371.58
A4: =B4&"-"&E4 -> 3-86052DC0440031 | B4: 3 | C4: CareFirst BlueChoice | D4: BlueChoice Advantage Bronze 6000 Ded | E4: 86052DC0440031 | F4: Expanded Bronze | G4: POS | H4: No | I4: Nationwide | J4: 421.7 | K4: 421.7 | L4: 421.7 | M4: 421.7 | N4: 421.7 | O4: 421.7 | P4: 421.7 | Q4: 421.7 | R4: 421.7 | S4: 421.7 | T4: 421.7 | U4: 421.7 | V4: 421.7 | W4: 421.7 | X4: 421.7 | Y4: 421.7 | Z4: 421.7 | AA4: 421.7 | AB4: 421.7 | AC4: 421.7 | AD4: 421.7 | AE4: 468.77 | AF4: 468.77 | AG4: 468.77 | AH4: 468.77 | AI4: 468.77 | AJ4: 468.77 | AK4: 468.77 | AL4: 479.73 | AM4: 490.05 | AN4: 502.3 | AO4: 515.2 | AP4: 526.8 | AQ4: 539.05 | AR4: 551.95 | AS4: 564.84 | AT4: 577.74 | AU4: 590.64 | AV4: 597.73 | AW4: 604.82 | AX4: 628.68 | AY4: 653.18 | AZ4: 678.97 | BA4: 705.41 | BB4: 733.14 | BC4: 761.51 | BD4: 791.17 | BE4: 822.12 | BF4: 854.36 | BG4: 887.89 | BH4: 922.71 | BI4: 958.82 | BJ4: 996.22 | BK4: 1034.9 | BL4: 1075.53 | BM4: 1117.44 | BN4: 1161.28 | BO4: 1206.42 | BP4: 1253.49 | BQ4: 1302.5 | BR4: 1353.44 | BS4: 1406.28 | BT4: 1406.28 | BU4: 1406.28 | BV4: 1406.28 | BW4: 1406.28 | BX4: 1406.28 | BY4: 1406.28 | BZ4: 1406.28 | CA4: 1406.28 | CB4: 1406.28 | CC4: 1406.28 | CD4: 1406.28 | CE4: 1406.28 | CF4: 1406.28 | CG4: 1406.28 | CH4: 1406.28 | CI4: 1406.28 | CJ4: 1406.28 | CK4: 1406.28 | CL4: 1406.28 | CM4: 1406.28 | CN4: 1406.28 | CO4: 1406.28 | CP4: 1406.28 | CQ4: 1406.28 | CR4: 1406.28 | CS4: 1406.28 | CT4: 1406.28 | CU4: 1406.28 | CV4: 1406.28 | CW4: 1406.28 | CX4: 1406.28 | CY4: 1406.28 | CZ4: 1406.28 | DA4: 1406.28 | DB4: 1406.28 | DC4: 1406.28 | DD4: 1406.28 | DE4: 1406.28 | DF4: 1406.28
A5: =B5&"-"&E5 -> 4-86052DC0440031 | B5: 4 | C5: CareFirst BlueChoice | D5: BlueChoice Advantage Bronze 6000 Ded | E5: 86052DC0440031 | F5: Expanded Bronze | G5: POS | H5: No | I5: Nationwide | J5: 432.56 | K5: 432.56 | L5: 432.56 | M5: 432.56 | N5: 432.56 | O5: 432.56 | P5: 432.56 | Q5: 432.56 | R5: 432.56 | S5: 432.56 | T5: 432.56 | U5: 432.56 | V5: 432.56 | W5: 432.56 | X5: 432.56 | Y5: 432.56 | Z5: 432.56 | AA5: 432.56 | AB5: 432.56 | AC5: 432.56 | AD5: 432.56 | AE5: 480.84 | AF5: 480.84 | AG5: 480.84 | AH5: 480.84 | AI5: 480.84 | AJ5: 480.84 | AK5: 480.84 | AL5: 492.08 | AM5: 502.66 | AN5: 515.23 | AO5: 528.46 | AP5: 540.36 | AQ5: 552.93 | AR5: 566.16 | AS5: 579.39 | AT5: 592.61 | AU5: 605.84 | AV5: 613.12 | AW5: 620.39 | AX5: 644.87 | AY5: 670 | AZ5: 696.45 | BA5: 723.57 | BB5: 752.01 | BC5: 781.11 | BD5: 811.54 | BE5: 843.29 | BF5: 876.36 | BG5: 910.75 | BH5: 946.46 | BI5: 983.5 | BJ5: 1021.86 | BK5: 1061.55 | BL5: 1103.22 | BM5: 1146.21 | BN5: 1191.18 | BO5: 1237.48 | BP5: 1285.76 | BQ5: 1336.03 | BR5: 1388.28 | BS5: 1442.48 | BT5: 1442.48 | BU5: 1442.48 | BV5: 1442.48 | BW5: 1442.48 | BX5: 1442.48 | BY5: 1442.48 | BZ5: 1442.48 | CA5: 1442.48 | CB5: 1442.48 | CC5: 1442.48 | CD5: 1442.48 | CE5: 1442.48 | CF5: 1442.48 | CG5: 1442.48 | CH5: 1442.48 | CI5: 1442.48 | CJ5: 1442.48 | CK5: 1442.48 | CL5: 1442.48 | CM5: 1442.48 | CN5: 1442.48 | CO5: 1442.48 | CP5: 1442.48 | CQ5: 1442.48 | CR5: 1442.48 | CS5: 1442.48 | CT5: 1442.48 | CU5: 1442.48 | CV5: 1442.48 | CW5: 1442.48 | CX5: 1442.48 | CY5: 1442.48 | CZ5: 1442.48 | DA5: 1442.48 | DB5: 1442.48 | DC5: 1442.48 | DD5: 1442.48 | DE5: 1442.48 | DF5: 1442.48
A6: =B6&"-"&E6 -> 1-86052DC0440032 | B6: 1 | C6: CareFirst BlueChoice | D6: BlueChoice Advantage Gold 0 Ded | E6: 86052DC0440032 | F6: Gold | G6: POS | H6: No | I6: Nationwide | J6: 571.03 | K6: 571.03 | L6: 571.03 | M6: 571.03 | N6: 571.03 | O6: 571.03 | P6: 571.03 | Q6: 571.03 | R6: 571.03 | S6: 571.03 | T6: 571.03 | U6: 571.03 | V6: 571.03 | W6: 571.03 | X6: 571.03 | Y6: 571.03 | Z6: 571.03 | AA6: 571.03 | AB6: 571.03 | AC6: 571.03 | AD6: 571.03 | AE6: 634.77 | AF6: 634.77 | AG6: 634.77 | AH6: 634.77 | AI6: 634.77 | AJ6: 634.77 | AK6: 634.77 | AL6: 649.62 | AM6: 663.59 | AN6: 680.18 | AO6: 697.64 | AP6: 713.36 | AQ6: 729.95 | AR6: 747.41 | AS6: 764.87 | AT6: 782.33 | AU6: 799.8 | AV6: 809.4 | AW6: 819.01 | AX6: 851.31 | AY6: 884.49 | AZ6: 919.42 | BA6: 955.22 | BB6: 992.76 | BC6: 1031.18 | BD6: 1071.34 | BE6: 1113.25 | BF6: 1156.91 | BG6: 1202.31 | BH6: 1249.46 | BI6: 1298.36 | BJ6: 1349 | BK6: 1401.39 | BL6: 1456.4 | BM6: 1513.15 | BN6: 1572.53 | BO6: 1633.64 | BP6: 1697.38 | BQ6: 1763.74 | BR6: 1832.72 | BS6: 1904.27 | BT6: 1904.27 | BU6: 1904.27 | BV6: 1904.27 | BW6: 1904.27 | BX6: 1904.27 | BY6: 1904.27 | BZ6: 1904.27 | CA6: 1904.27 | CB6: 1904.27 | CC6: 1904.27 | CD6: 1904.27 | CE6: 1904.27 | CF6: 1904.27 | CG6: 1904.27 | CH6: 1904.27 | CI6: 1904.27 | CJ6: 1904.27 | CK6: 1904.27 | CL6: 1904.27 | CM6: 1904.27 | CN6: 1904.27 | CO6: 1904.27 | CP6: 1904.27 | CQ6: 1904.27 | CR6: 1904.27 | CS6: 1904.27 | CT6: 1904.27 | CU6: 1904.27 | CV6: 1904.27 | CW6: 1904.27 | CX6: 1904.27 | CY6: 1904.27 | CZ6: 1904.27 | DA6: 1904.27 | DB6: 1904.27 | DC6: 1904.27 | DD6: 1904.27 | DE6: 1904.27 | DF6: 1904.27
A7: =B7&"-"&E7 -> 2-86052DC0440032 | B7: 2 | C7: CareFirst BlueChoice | D7: BlueChoice Advantage Gold 0 Ded | E7: 86052DC0440032 | F7: Gold | G7: POS | H7: No | I7: Nationwide | J7: 585.56 | K7: 585.56 | L7: 585.56 | M7: 585.56 | N7: 585.56 | O7: 585.56 | P7: 585.56 | Q7: 585.56 | R7: 585.56 | S7: 585.56 | T7: 585.56 | U7: 585.56 | V7: 585.56 | W7: 585.56 | X7: 585.56 | Y7: 585.56 | Z7: 585.56 | AA7: 585.56 | AB7: 585.56 | AC7: 585.56 | AD7: 585.56 | AE7: 650.92 | AF7: 650.92 | AG7: 650.92 | AH7: 650.92 | AI7: 650.92 | AJ7: 650.92 | AK7: 650.92 | AL7: 666.14 | AM7: 680.47 | AN7: 697.48 | AO7: 715.38 | AP7: 731.5 | AQ7: 748.51 | AR7: 766.42 | AS7: 784.33 | AT7: 802.23 | AU7: 820.14 | AV7: 829.99 | AW7: 839.84 | AX7: 872.97 | AY7: 906.99 | AZ7: 942.8 | BA7: 979.51 | BB7: 1018.01 | BC7: 1057.41 | BD7: 1098.59 | BE7: 1141.57 | BF7: 1186.34 | BG7: 1232.9 | BH7: 1281.25 | BI7: 1331.39 | BJ7: 1383.32 | BK7: 1437.04 | BL7: 1493.44 | BM7: 1551.64 | BN7: 1612.53 | BO7: 1675.2 | BP7: 1740.56 | BQ7: 1808.61 | BR7: 1879.34 | BS7: 1952.71 | BT7: 1952.71 | BU7: 1952.71 | BV7: 1952.71 | BW7: 1952.71 | BX7: 1952.71 | BY7: 1952.71 | BZ7: 1952.71 | CA7: 1952.71 | CB7: 1952.71 | CC7: 1952.71 | CD7: 1952.71 | CE7: 1952.71 | CF7: 1952.71 | CG7: 1952.71 | CH7: 1952.71 | CI7: 1952.71 | CJ7: 1952.71 | CK7: 1952.71 | CL7: 1952.71 | CM7: 1952.71 | CN7: 1952.71 | CO7: 1952.71 | CP7: 1952.71 | CQ7: 1952.71 | CR7: 1952.71 | CS7: 1952.71 | CT7: 1952.71 | CU7: 1952.71 | CV7: 1952.71 | CW7: 1952.71 | CX7: 1952.71 | CY7: 1952.71 | CZ7: 1952.71 | DA7: 1952.71 | DB7: 1952.71 | DC7: 1952.71 | DD7: 1952.71 | DE7: 1952.71 | DF7: 1952.71
A8: =B8&"-"&E8 -> 3-86052DC0440032 | B8: 3 | C8: CareFirst BlueChoice | D8: BlueChoice Advantage Gold 0 Ded | E8: 86052DC0440032 | F8: Gold | G8: POS | H8: No | I8: Nationwide | J8: 600.37 | K8: 600.37 | L8: 600.37 | M8: 600.37 | N8: 600.37 | O8: 600.37 | P8: 600.37 | Q8: 600.37 | R8: 600.37 | S8: 600.37 | T8: 600.37 | U8: 600.37 | V8: 600.37 | W8: 600.37 | X8: 600.37 | Y8: 600.37 | Z8: 600.37 | AA8: 600.37 | AB8: 600.37 | AC8: 600.37 | AD8: 600.37 | AE8: 667.39 | AF8: 667.39 | AG8: 667.39 | AH8: 667.39 | AI8: 667.39 | AJ8: 667.39 | AK8: 667.39 | AL8: 682.99 | AM8: 697.68 | AN8: 715.12 | AO8: 733.48 | AP8: 750.01 | AQ8: 767.45 | AR8: 785.81 | AS8: 804.17 | AT8: 822.53 | AU8: 840.89 | AV8: 850.99 | AW8: 861.08 | AX8: 895.05 | AY8: 929.93 | AZ8: 966.65 | BA8: 1004.29 | BB8: 1043.77 | BC8: 1084.16 | BD8: 1126.39 | BE8: 1170.45 | BF8: 1216.35 | BG8: 1264.09 | BH8: 1313.66 | BI8: 1365.07 | BJ8: 1418.31 | BK8: 1473.39 | BL8: 1531.22 | BM8: 1590.89 | BN8: 1653.32 | BO8: 1717.58 | BP8: 1784.59 | BQ8: 1854.36 | BR8: 1926.88 | BS8: 2002.11 | BT8: 2002.11 | BU8: 2002.11 | BV8: 2002.11 | BW8: 2002.11 | BX8: 2002.11 | BY8: 2002.11 | BZ8: 2002.11 | CA8: 2002.11 | CB8: 2002.11 | CC8: 2002.11 | CD8: 2002.11 | CE8: 2002.11 | CF8: 2002.11 | CG8: 2002.11 | CH8: 2002.11 | CI8: 2002.11 | CJ8: 2002.11 | CK8: 2002.11 | CL8: 2002.11 | CM8: 2002.11 | CN8: 2002.11 | CO8: 2002.11 | CP8: 2002.11 | CQ8: 2002.11 | CR8: 2002.11 | CS8: 2002.11 | CT8: 2002.11 | CU8: 2002.11 | CV8: 2002.11 | CW8: 2002.11 | CX8: 2002.11 | CY8: 2002.11 | CZ8: 2002.11 | DA8: 2002.11 | DB8: 2002.11 | DC8: 2002.11 | DD8: 2002.11 | DE8: 2002.11 | DF8: 2002.11
A9: =B9&"-"&E9 -> 4-86052DC0440032 | B9: 4 | C9: CareFirst BlueChoice | D9: BlueChoice Advantage Gold 0 Ded | E9: 86052DC0440032 | F9: Gold | G9: POS | H9: No | I9: Nationwide | J9: 615.83 | K9: 615.83 | L9: 615.83 | M9: 615.83 | N9: 615.83 | O9: 615.83 | P9: 615.83 | Q9: 615.83 | R9: 615.83 | S9: 615.83 | T9: 615.83 | U9: 615.83 | V9: 615.83 | W9: 615.83 | X9: 615.83 | Y9: 615.83 | Z9: 615.83 | AA9: 615.83 | AB9: 615.83 | AC9: 615.83 | AD9: 615.83 | AE9: 684.57 | AF9: 684.57 | AG9: 684.57 | AH9: 684.57 | AI9: 684.57 | AJ9: 684.57 | AK9: 684.57 | AL9: 700.58 | AM9: 715.65 | AN9: 733.54 | AO9: 752.37 | AP9: 769.32 | AQ9: 787.21 | AR9: 806.04 | AS9: 824.88 | AT9: 843.71 | AU9: 862.54 | AV9: 872.9 | AW9: 883.26 | AX9: 918.1 | AY9: 953.88 | AZ9: 991.55 | BA9: 1030.15 | BB9: 1070.64 | BC9: 1112.08 | BD9: 1155.39 | BE9: 1200.59 | BF9: 1247.67 | BG9: 1296.64 | BH9: 1347.49 | BI9: 1400.22 | BJ9: 1454.83 | BK9: 1511.33 | BL9: 1570.66 | BM9: 1631.86 | BN9: 1695.89 | BO9: 1761.81 | BP9: 1830.55 | BQ9: 1902.11 | BR9: 1976.5 | BS9: 2053.67 | BT9: 2053.67 | BU9: 2053.67 | BV9: 2053.67 | BW9: 2053.67 | BX9: 2053.67 | BY9: 2053.67 | BZ9: 2053.67 | CA9: 2053.67 | CB9: 2053.67 | CC9: 2053.67 | CD9: 2053.67 | CE9: 2053.67 | CF9: 2053.67 | CG9: 2053.67 | CH9: 2053.67 | CI9: 2053.67 | CJ9: 2053.67 | CK9: 2053.67 | CL9: 2053.67 | CM9: 2053.67 | CN9: 2053.67 | CO9: 2053.67 | CP9: 2053.67 | CQ9: 2053.67 | CR9: 2053.67 | CS9: 2053.67 | CT9: 2053.67 | CU9: 2053.67 | CV9: 2053.67 | CW9: 2053.67 | CX9: 2053.67 | CY9: 2053.67 | CZ9: 2053.67 | DA9: 2053.67 | DB9: 2053.67 | DC9: 2053.67 | DD9: 2053.67 | DE9: 2053.67 | DF9: 2053.67
A10: =B10&"-"&E10 -> 1-86052DC0440010 | B10: 1 | C10: CareFirst BlueChoice | D10: BlueChoice Advantage Gold 1000 Ded | E10: 86052DC0440010 | F10: Gold | G10: POS | H10: No | I10: Nationwide | J10: 548.65 | K10: 548.65 | L10: 548.65 | M10: 548.65 | N10: 548.65 | O10: 548.65 | P10: 548.65 | Q10: 548.65 | R10: 548.65 | S10: 548.65 | T10: 548.65 | U10: 548.65 | V10: 548.65 | W10: 548.65 | X10: 548.65 | Y10: 548.65 | Z10: 548.65 | AA10: 548.65 | AB10: 548.65 | AC10: 548.65 | AD10: 548.65 | AE10: 609.89 | AF10: 609.89 | AG10: 609.89 | AH10: 609.89 | AI10: 609.89 | AJ10: 609.89 | AK10: 609.89 | AL10: 624.15 | AM10: 637.57 | AN10: 653.51 | AO10: 670.29 | AP10: 685.39 | AQ10: 701.33 | AR10: 718.11 | AS10: 734.89 | AT10: 751.66 | AU10: 768.44 | AV10: 777.67 | AW10: 786.9 | AX10: 817.94 | AY10: 849.82 | AZ10: 883.37 | BA10: 917.77 | BB10: 953.84 | BC10: 990.75 | BD10: 1029.34 | BE10: 1069.61 | BF10: 1111.56 | BG10: 1155.18 | BH10: 1200.48 | BI10: 1247.46 | BJ10: 1296.12 | BK10: 1346.45 | BL10: 1399.3 | BM10: 1453.83 | BN10: 1510.88 | BO10: 1569.6 | BP10: 1630.84 | BQ10: 1694.6 | BR10: 1760.87 | BS10: 1829.62 | BT10: 1829.62 | BU10: 1829.62 | BV10: 1829.62 | BW10: 1829.62 | BX10: 1829.62 | BY10: 1829.62 | BZ10: 1829.62 | CA10: 1829.62 | CB10: 1829.62 | CC10: 1829.62 | CD10: 1829.62 | CE10: 1829.62 | CF10: 1829.62 | CG10: 1829.62 | CH10: 1829.62 | CI10: 1829.62 | CJ10: 1829.62 | CK10: 1829.62 | CL10: 1829.62 | CM10: 1829.62 | CN10: 1829.62 | CO10: 1829.62 | CP10: 1829.62 | CQ10: 1829.62 | CR10: 1829.62 | CS10: 1829.62 | CT10: 1829.62 | CU10: 1829.62 | CV10: 1829.62 | CW10: 1829.62 | CX10: 1829.62 | CY10: 1829.62 | CZ10: 1829.62 | DA10: 1829.62 | DB10: 1829.62 | DC10: 1829.62 | DD10: 1829.62 | DE10: 1829.62 | DF10: 1829.62
A11: =B11&"-"&E11 -> 2-86052DC0440010 | B11: 2 | C11: CareFirst BlueChoice | D11: BlueChoice Advantage Gold 1000 Ded | E11: 86052DC0440010 | F11: Gold | G11: POS | H11: No | I11: Nationwide | J11: 562.6 | K11: 562.6 | L11: 562.6 | M11: 562.6 | N11: 562.6 | O11: 562.6 | P11: 562.6 | Q11: 562.6 | R11: 562.6 | S11: 562.6 | T11: 562.6 | U11: 562.6 | V11: 562.6 | W11: 562.6 | X11: 562.6 | Y11: 562.6 | Z11: 562.6 | AA11: 562.6 | AB11: 562.6 | AC11: 562.6 | AD11: 562.6 | AE11: 625.39 | AF11: 625.39 | AG11: 625.39 | AH11: 625.39 | AI11: 625.39 | AJ11: 625.39 | AK11: 625.39 | AL11: 640.02 | AM11: 653.78 | AN11: 670.13 | AO11: 687.33 | AP11: 702.82 | AQ11: 719.16 | AR11: 736.37 | AS11: 753.57 | AT11: 770.78 | AU11: 787.98 | AV11: 797.44 | AW11: 806.91 | AX11: 838.73 | AY11: 871.42 | AZ11: 905.83 | BA11: 941.1 | BB11: 978.09 | BC11: 1015.94 | BD11: 1055.51 | BE11: 1096.81 | BF11: 1139.82 | BG11: 1184.55 | BH11: 1231 | BI11: 1279.18 | BJ11: 1329.07 | BK11: 1380.69 | BL11: 1434.88 | BM11: 1490.8 | BN11: 1549.29 | BO11: 1609.51 | BP11: 1672.31 | BQ11: 1737.68 | BR11: 1805.64 | BS11: 1876.14 | BT11: 1876.14 | BU11: 1876.14 | BV11: 1876.14 | BW11: 1876.14 | BX11: 1876.14 | BY11: 1876.14 | BZ11: 1876.14 | CA11: 1876.14 | CB11: 1876.14 | CC11: 1876.14 | CD11: 1876.14 | CE11: 1876.14 | CF11: 1876.14 | CG11: 1876.14 | CH11: 1876.14 | CI11: 1876.14 | CJ11: 1876.14 | CK11: 1876.14 | CL11: 1876.14 | CM11: 1876.14 | CN11: 1876.14 | CO11: 1876.14 | CP11: 1876.14 | CQ11: 1876.14 | CR11: 1876.14 | CS11: 1876.14 | CT11: 1876.14 | CU11: 1876.14 | CV11: 1876.14 | CW11: 1876.14 | CX11: 1876.14 | CY11: 1876.14 | CZ11: 1876.14 | DA11: 1876.14 | DB11: 1876.14 | DC11: 1876.14 | DD11: 1876.14 | DE11: 1876.14 | DF11: 1876.14
A12: =B12&"-"&E12 -> 3-86052DC0440010 | B12: 3 | C12: CareFirst BlueChoice | D12: BlueChoice Advantage Gold 1000 Ded | E12: 86052DC0440010 | F12: Gold | G12: POS | H12: No | I12: Nationwide | J12: 576.83 | K12: 576.83 | L12: 576.83 | M12: 576.83 | N12: 576.83 | O12: 576.83 | P12: 576.83 | Q12: 576.83 | R12: 576.83 | S12: 576.83 | T12: 576.83 | U12: 576.83 | V12: 576.83 | W12: 576.83 | X12: 576.83 | Y12: 576.83 | Z12: 576.83 | AA12: 576.83 | AB12: 576.83 | AC12: 576.83 | AD12: 576.83 | AE12: 641.22 | AF12: 641.22 | AG12: 641.22 | AH12: 641.22 | AI12: 641.22 | AJ12: 641.22 | AK12: 641.22 | AL12: 656.22 | AM12: 670.33 | AN12: 687.09 | AO12: 704.73 | AP12: 720.6 | AQ12: 737.36 | AR12: 755 | AS12: 772.64 | AT12: 790.28 | AU12: 807.92 | AV12: 817.62 | AW12: 827.33 | AX12: 859.96 | AY12: 893.48 | AZ12: 928.76 | BA12: 964.92 | BB12: 1002.85 | BC12: 1041.65 | BD12: 1082.23 | BE12: 1124.56 | BF12: 1168.66 | BG12: 1214.53 | BH12: 1262.16 | BI12: 1311.55 | BJ12: 1362.71 | BK12: 1415.63 | BL12: 1471.19 | BM12: 1528.52 | BN12: 1588.5 | BO12: 1650.24 | BP12: 1714.63 | BQ12: 1781.66 | BR12: 1851.34 | BS12: 1923.62 | BT12: 1923.62 | BU12: 1923.62 | BV12: 1923.62 | BW12: 1923.62 | BX12: 1923.62 | BY12: 1923.62 | BZ12: 1923.62 | CA12: 1923.62 | CB12: 1923.62 | CC12: 1923.62 | CD12: 1923.62 | CE12: 1923.62 | CF12: 1923.62 | CG12: 1923.62 | CH12: 1923.62 | CI12: 1923.62 | CJ12: 1923.62 | CK12: 1923.62 | CL12: 1923.62 | CM12: 1923.62 | CN12: 1923.62 | CO12: 1923.62 | CP12: 1923.62 | CQ12: 1923.62 | CR12: 1923.62 | CS12: 1923.62 | CT12: 1923.62 | CU12: 1923.62 | CV12: 1923.62 | CW12: 1923.62 | CX12: 1923.62 | CY12: 1923.62 | CZ12: 1923.62 | DA12: 1923.62 | DB12: 1923.62 | DC12: 1923.62 | DD12: 1923.62 | DE12: 1923.62 | DF12: 1923.62
A13: =B13&"-"&E13 -> 4-86052DC0440010 | B13: 4 | C13: CareFirst BlueChoice | D13: BlueChoice Advantage Gold 1000 Ded | E13: 86052DC0440010 | F13: Gold | G13: POS | H13: No | I13: Nationwide | J13: 591.69 | K13: 591.69 | L13: 591.69 | M13: 591.69 | N13: 591.69 | O13: 591.69 | P13: 591.69 | Q13: 591.69 | R13: 591.69 | S13: 591.69 | T13: 591.69 | U13: 591.69 | V13: 591.69 | W13: 591.69 | X13: 591.69 | Y13: 591.69 | Z13: 591.69 | AA13: 591.69 | AB13: 591.69 | AC13: 591.69 | AD13: 591.69 | AE13: 657.73 | AF13: 657.73 | AG13: 657.73 | AH13: 657.73 | AI13: 657.73 | AJ13: 657.73 | AK13: 657.73 | AL13: 673.11 | AM13: 687.59 | AN13: 704.78 | AO13: 722.87 | AP13: 739.16 | AQ13: 756.35 | AR13: 774.44 | AS13: 792.53 | AT13: 810.63 | AU13: 828.72 | AV13: 838.68 | AW13: 848.63 | AX13: 882.1 | AY13: 916.48 | AZ13: 952.67 | BA13: 989.76 | BB13: 1028.67 | BC13: 1068.47 | BD13: 1110.09 | BE13: 1153.52 | BF13: 1198.75 | BG13: 1245.8 | BH13: 1294.65 | BI13: 1345.32 | BJ13: 1397.79 | BK13: 1452.08 | BL13: 1509.07 | BM13: 1567.88 | BN13: 1629.4 | BO13: 1692.73 | BP13: 1758.78 | BQ13: 1827.53 | BR13: 1899.01 | BS13: 1973.15 | BT13: 1973.15 | BU13: 1973.15 | BV13: 1973.15 | BW13: 1973.15 | BX13: 1973.15 | BY13: 1973.15 | BZ13: 1973.15 | CA13: 1973.15 | CB13: 1973.15 | CC13: 1973.15 | CD13: 1973.15 | CE13: 1973.15 | CF13: 1973.15 | CG13: 1973.15 | CH13: 1973.15 | CI13: 1973.15 | CJ13: 1973.15 | CK13: 1973.15 | CL13: 1973.15 | CM13: 1973.15 | CN13: 1973.15 | CO13: 1973.15 | CP13: 1973.15 | CQ13: 1973.15 | CR13: 1973.15 | CS13: 1973.15 | CT13: 1973.15 | CU13: 1973.15 | CV13: 1973.15 | CW13: 1973.15 | CX13: 1973.15 | CY13: 1973.15 | CZ13: 1973.15 | DA13: 1973.15 | DB13: 1973.15 | DC13: 1973.15 | DD13: 1973.15 | DE13: 1973.15 | DF13: 1973.15
... A629: =B629&"-"&E629 -> 4-75753DC0030050 | B629: 4 | C629: United OCI | D629: UHC OCI Silver 6500-1 | E629: 75753DC0030050 | F629: Silver | G629: HMO | H629: No | I629: DC Metro | J629: 406.8 | K629: 406.8 | L629: 406.8 | M629: 406.8 | N629: 406.8 | O629: 406.8 | P629: 406.8 | Q629: 406.8 | R629: 406.8 | S629: 406.8 | T629: 406.8 | U629: 406.8 | V629: 406.8 | W629: 406.8 | X629: 406.8 | Y629: 406.8 | Z629: 406.8 | AA629: 406.8 | AB629: 406.8 | AC629: 406.8 | AD629: 406.8 | AE629: 452.21 | AF629: 452.21 | AG629: 452.21 | AH629: 452.21 | AI629: 452.21 | AJ629: 452.21 | AK629: 452.21 | AL629: 462.78 | AM629: 472.73 | AN629: 484.55 | AO629: 496.99 | AP629: 508.19 | AQ629: 520.01 | AR629: 532.45 | AS629: 544.89 | AT629: 557.33 | AU629: 569.77 | AV629: 576.61 | AW629: 583.45 | AX629: 606.47 | AY629: 630.1 | AZ629: 654.98 | BA629: 680.49 | BB629: 707.23 | BC629: 734.6 | BD629: 763.22 | BE629: 793.07 | BF629: 824.17 | BG629: 856.52 | BH629: 890.11 | BI629: 924.94 | BJ629: 961.02 | BK629: 998.34 | BL629: 1037.53 | BM629: 1077.96 | BN629: 1120.25 | BO629: 1163.8 | BP629: 1209.2 | BQ629: 1256.48 | BR629: 1305.62 | BS629: 1356.62 | BT629: 1356.62 | BU629: 1356.62 | BV629: 1356.62 | BW629: 1356.62 | BX629: 1356.62 | BY629: 1356.62 | BZ629: 1356.62 | CA629: 1356.62 | CB629: 1356.62 | CC629: 1356.62 | CD629: 1356.62 | CE629: 1356.62 | CF629: 1356.62 | CG629: 1356.62 | CH629: 1356.62 | CI629: 1356.62 | CJ629: 1356.62 | CK629: 1356.62 | CL629: 1356.62 | CM629: 1356.62 | CN629: 1356.62 | CO629: 1356.62 | CP629: 1356.62 | CQ629: 1356.62 | CR629: 1356.62 | CS629: 1356.62 | CT629: 1356.62 | CU629: 1356.62 | CV629: 1356.62 | CW629: 1356.62 | CX629: 1356.62 | CY629: 1356.62 | CZ629: 1356.62 | DA629: 1356.62 | DB629: 1356.62 | DC629: 1356.62 | DD629: 1356.62 | DE629: 1356.62 | DF629: 1356.62

Sheet Lookups
I3: Plan Name | K3: Coverage Month | L3: Quarter
I4: Standard UHC Core Essential Platinum 0-4 | K4: 1 | L4: 1 | N4: 1 | R4: Plan Name
I5: Standard UHC Core Essential Gold 500 | K5: 2 | L5: 1 | N5: 2 | R5: BlueChoice Advantage Bronze 6000 Ded
I6: UHC Core Essential Gold 750-2 | K6: 3 | L6: 1 | N6: 3 | R6: BlueChoice Advantage Gold 0 Ded
I7: Standard UHC Core Essential Silver 4850 | K7: 4 | L7: 2 | N7: 4 | R7: BlueChoice Advantage Gold 1000 Ded
I8: Standard UHC Core Essential Bronze 7500 | K8: 5 | L8: 2 | R8: BlueChoice Advantage Gold 3000 Ded
I9: UHC Choice Plus Gold 0-2 | K9: 6 | L9: 2 | R9: BlueChoice Advantage Gold 800 Ded
I10: UHC Choice Plus HSA Gold 2300 | K10: 7 | L10: 3 | R10: BlueChoice Advantage HSA/HRA Bronze 6100 Ded
I11: UHC Choice Plus HSA Silver 3100 | K11: 8 | L11: 3 | R11: BlueChoice Advantage HSA/HRA Gold 1900 Ded
I12: UHC Choice Plus Platinum 0-1 | K12: 9 | L12: 3 | R12: BlueChoice Advantage HSA/HRA Silver 2800 Ded
I13: UHC Choice Plus Platinum 0-2 | K13: 10 | L13: 4 | R13: BlueChoice Advantage HSA/HRA Silver 3050 Ded
I14: UHC Choice Plus Gold 750-2 | K14: 11 | L14: 4 | R14: BlueChoice Advantage HSA/HRA Silver 3600 Ded
I15: UHC Choice Plus Gold 1500-1 | K15: 12 | L15: 4 | R15: BlueChoice Advantage Platinum 0 Ded
I16: UHC Choice Plus Gold 2000-1 | R16: BlueChoice Advantage Platinum 500 Ded
I17: UHC Choice Plus Gold 1750-3 | R17: BlueChoice Advantage Silver 2800 Ded BlueFund HSA
I18: UHC Choice Plus Platinum 250-1 | R18: BlueChoice Advantage Silver 5500 Ded
I19: UHC Choice Plus Platinum 0-3 | R19: BlueChoice Advantage Silver 6900 Ded
I20: UHC Choice Plus Silver 3750-1 | R20: BlueChoice HMO Bronze 6000 Ded
I21: Standard UHC Choice Plus Platinum 0-4 | R21: BlueChoice HMO Essential Bronze 7500
I22: Standard UHC Choice Plus Gold 500 | R22: BlueChoice HMO Essential Gold 500
I23: Standard UHC Choice Plus Silver 4850 | R23: BlueChoice HMO Essential Platinum 0
I24: Standard UHC Choice Plus Bronze 7500 | R24: BlueChoice HMO Essential Silver 4850
I25: UHC Choice Plus HSA Gold 2500-1 | R25: BlueChoice HMO Gold 1500 Ded
I26: UHC Choice Plus HSA Silver 5350 | R26: BlueChoice HMO Gold 3000 Ded
I27: UHC Choice Plus Gold 1600-4 | R27: BlueChoice HMO Gold 800 Ded
... I160: KP DC Platinum Added Choice 500 Ded/Vision | R160: UHC OCI Silver 6000-1
R161: UHC OCI Silver 6500-1

Sheet HC4CC
C3: HC4CC BENCHMARK PLAN | E3: KP DC Essential Gold 500 Ded/Vision
C5: Age | D5: Q1 | E5: Q2 | F5: Q3 | G5: Q4
C6: 0 | D6: 404.74 | E6: 412.12 | F6: 419.64 | G6: 427.29
C7: 1 | D7: 404.74 | E7: 412.12 | F7: 419.64 | G7: 427.29
C8: 2 | D8: 404.74 | E8: 412.12 | F8: 419.64 | G8: 427.29
C9: 3 | D9: 404.74 | E9: 412.12 | F9: 419.64 | G9: 427.29
C10: 4 | D10: 404.74 | E10: 412.12 | F10: 419.64 | G10: 427.29
C11: 5 | D11: 404.74 | E11: 412.12 | F11: 419.64 | G11: 427.29
C12: 6 | D12: 404.74 | E12: 412.12 | F12: 419.64 | G12: 427.29
C13: 7 | D13: 404.74 | E13: 412.12 | F13: 419.64 | G13: 427.29
C14: 8 | D14: 404.74 | E14: 412.12 | F14: 419.64 | G14: 427.29
C15: 9 | D15: 404.74 | E15: 412.12 | F15: 419.64 | G15: 427.29
C16: 10 | D16: 404.74 | E16: 412.12 | F16: 419.64 | G16: 427.29
C17: 11 | D17: 404.74 | E17: 412.12 | F17: 419.64 | G17: 427.29
... C106: 100 | D106: 1349.76 | E106: 1374.36 | F106: 1399.44 | G106: 1424.97

Sheet UHC Plan Codes
A1: Plan Year | B1: Plan Name | C1: HIOS | D1: Metal Level | E1: UHC Plan Code
A2: 2027 | B2: Standard UHC Core Essential Platinum 0-4 | C2: 21066DC0040008-01 | D2: Platinum | E2: FCPU
A3: 2027 | B3: Standard UHC Core Essential Gold 500 | C3: 21066DC0040009-01 | D3: Gold | E3: FCPV
A4: 2027 | B4: UHC Core Essential Gold 750-2 | C4: 21066DC0040010-01 | D4: Gold | E4: FCQT
A5: 2027 | B5: Standard UHC Core Essential Silver 4850 | C5: 21066DC0040012-01 | D5: Silver | E5: FCPW
A6: 2027 | B6: Standard UHC Core Essential Bronze 7500 | C6: 21066DC0040013-01 | D6: Bronze | E6: FCP9
A7: 2027 | B7: UHC OCI HSA Bronze 8000 | C7: 75753DC0030002-01 | D7: Bronze | E7: FCPP
A8: 2027 | B8: UHC OCI HSA Gold 2300 | C8: 75753DC0030001-01 | D8: Gold | E8: FCPQ
A9: 2027 | B9: UHC OCI HSA Bronze 8000 | C9: 75753DC0030002-01 | D9: Bronze | E9: FCPP
A10: 2027 | B10: UHC OCI HSA Silver 3100 | C10: 75753DC0030003-01 | D10: Silver | E10: FCQH
A11: 2027 | B11: UHC OCI Platinum 500-2 | C11: 75753DC0030006-01 | D11: Platinum | E11: FCPR
A12: 2027 | B12: UHC OCI Gold 1600-3 | C12: 75753DC0030044-01 | D12: Gold | E12: FCQJ
A13: 2027 | B13: UHC OCI Gold 1750-1 | C13: 75753DC0030012-01 | D13: Gold | E13: FCQC
... A61: 2027 | B61: UHC OCI HSA Gold 1800-4 | C61: 75753DC0030049-01 | D61: Gold | E61: FCQL
